BEGIN:VCALENDAR
VERSION:2.0
PRODID:-//ChamberMaster//Event Calendar 2.0//EN
METHOD:PUBLISH
X-PUBLISHED-TTL:P3D
REFRESH-INTERVAL:P3D
CALSCALE:GREGORIAN
BEGIN:VEVENT
DTSTART;VALUE=DATE:20090102
DTEND;VALUE=DATE:20090103
TRANSP:TRANSPARENT
X-MICROSOFT-CDO-ALLDAYEVENT:TRUE
SUMMARY:Stop the Hate: Youth Speak Out -- Essay Contest
DESCRIPTION:$100\,000 Scholarship from Maltz Museum of Jewish Heritage Imagine receiving a scholarship for four years of college tuition based on your empathy\, ability to express yourself\, concern for others and deep feelings about the danger of hate.  For one area junior or senior\, the Maltz Museum of Jewish Heritage will make that possible! Submissions may be received by email\, hand-delivery\, or mail postmarked no later that 5:00 PM\,Friday\, January 2\, 2009.  For more information\, click here to read the entire news release and also visit: www.maltzjewishmuseum.org for eligibility\, guidelines\, judging criteria\, etc.
X-ALT-DESC;FMTTYPE=text/html:<div align="center"><font color="#000080" size="3">$100\,000 Scholarship from Maltz Museum of Jewish Heritage</font></div><div>&nbsp\;</div><div>Imagine receiving a scholarship for four years of college tuition based on your empathy\, ability to express yourself\, concern for others and deep feelings about the danger of hate.&nbsp\; For one area junior or senior\, the Maltz Museum of Jewish Heritage will make that possible!</div><div>&nbsp\;</div><div>Submissions may be received by email\, hand-delivery\, or mail postmarked no later that 5<strong>:00 PM\,</strong></div><div><strong>Friday\, January 2\, 2009.&nbsp\;</strong></div><div>&nbsp\;</div><div>For more information\, <a href="https://secure.chambermaster.com/FCKeditor/UserFiles/chambers/368/File/StopTheHate%20Scholarship.pdf">click here</a> to read the entire news release and also visit: <a href="http://www.maltzjewishmuseum.org">www.maltzjewishmuseum.org</a> for eligibility\, guidelines\, judging criteria\, etc.</div><div>&nbsp\;</div>
LOCATION:Maltz Museum of Jewish Heritage2929 Richmond RoadBeachwood
UID:e.368.123
SEQUENCE:3
DTSTAMP:20260423T223924Z
URL:https://public.beachwood.org/events/details/stop-the-hate-youth-speak-out-essay-contest-01-02-2009-123
END:VEVENT

END:VCALENDAR
