BEGIN:VCALENDAR
VERSION:2.0
PRODID:-//ChamberMaster//Event Calendar 2.0//EN
METHOD:PUBLISH
X-PUBLISHED-TTL:P3D
REFRESH-INTERVAL:P3D
CALSCALE:GREGORIAN
BEGIN:VEVENT
DTSTART;VALUE=DATE:20160317
DTEND;VALUE=DATE:20160318
TRANSP:TRANSPARENT
X-MICROSOFT-CDO-ALLDAYEVENT:TRUE
SUMMARY:St. Patrick's Day at The Pub Beachwood
DESCRIPTION:Drink specials:\n\n    $2 Jello Shots\n\n    $5 Guinness\, Smithwick's & Harp\n\n    $3 Green Beer (while it lasts)\n\n    $5 Irish Sinkers & Jameson Shots\n\nIrish Specials:\n\n    Guinness Stew\n\n    Corned Beef & Cabbage\n\n    Corned Beef Reuben\n\n**Full Menu will be Available after 11:00 AM**\n\n#PubPattyParty
X-ALT-DESC;FMTTYPE=text/html:<div style="text-align: center\;"><span style="font-size:14px"><span style="font-size:18px"><span style="font-family:calibri"><strong>Drink specials:</strong></span></span><br />\n<span style="font-family:calibri">&bull\;&nbsp\;&nbsp\; $2 Jello Shots<br />\n&bull\;&nbsp\;&nbsp\; $5 Guinness\, Smithwick&#39\;s &amp\; Harp<br />\n&bull\;&nbsp\;&nbsp\; $3 Green Beer (while it lasts)<br />\n&bull\;&nbsp\;&nbsp\; $5 Irish Sinkers &amp\; Jameson Shots</span><br />\n<span style="font-size:18px"><span style="font-family:calibri"><strong>Irish Specials:</strong></span></span><br />\n<span style="font-family:calibri">&bull\;&nbsp\;&nbsp\; Guinness Stew<br />\n&bull\;&nbsp\;&nbsp\; Corned Beef &amp\; Cabbage<br />\n&bull\;&nbsp\;&nbsp\; Corned Beef Reuben<br />\n**Full Menu will be Available after 11:00 AM**<br />\n#PubPattyParty</span></span><br />\n&nbsp\;</div>\n
LOCATION:We are located in Beachwood Place\, next to Saks 5th Avenue.
UID:e.368.4805
SEQUENCE:3
DTSTAMP:20260420T102525Z
URL:https://public.beachwood.org/events/details/st-patrick-s-day-at-the-pub-beachwood-03-17-2016-4805
END:VEVENT

END:VCALENDAR
