BEGIN:VCALENDAR
VERSION:2.0
PRODID:-//ChamberMaster//Event Calendar 2.0//EN
METHOD:PUBLISH
X-PUBLISHED-TTL:P3D
REFRESH-INTERVAL:P3D
CALSCALE:GREGORIAN
BEGIN:VEVENT
DTSTART:20150317T130000Z
DTEND:20150318T040000Z
X-MICROSOFT-CDO-ALLDAYEVENT:FALSE
SUMMARY:St. Patrick's Day at The Pub Beachwood
DESCRIPTION:We're opening at 9:00 am for Kegs & Eggs.\n\nEnjoy Irish specials\, live entertainment & drink specials!\n\nLive Entertainment Lineup:\n\n2:30 - 3:30 pm: Donald Willis Bagpiper\n\n7:00 - 11:00 pm: Becky Boyd & Groove Train\n\nDrink specials:\n\n    $2 Jello Shots\n\n    $5 Guinness\, Smithwick's & Harp\n\n    $3 Green Beer (while it lasts)\n\n    $5 Irish Sinkers & Jameson Shots\n\n    $4 Bud Light Shamrock Cans\n\nIrish Specials:\n\n    Guinness Stew\n\n    Corned Beef & Cabbage\n\n    Corned Beef Reuben\n\n**Full Menu will be Available after 11:00 AM**\n\n#PubPattyParty
X-ALT-DESC;FMTTYPE=text/html:<div style="text-align: center\;"><span style="font-size:26px"><span style="font-family:calibri"><strong>We&#39\;re opening at 9:00 am for Kegs &amp\; Eggs.</strong></span></span></div>\n\n<div style="text-align: center\;"><span style="font-size:14px"><span style="font-family:calibri">Enjoy Irish specials\, live entertainment &amp\; drink specials!</span><br />\n<span style="font-size:18px"><span style="font-family:calibri"><strong>Live Entertainment Lineup:</strong></span></span><br />\n<span style="font-family:calibri">2:30 - 3:30 pm: Donald Willis Bagpiper<br />\n7:00 - 11:00 pm: Becky Boyd &amp\; Groove Train</span><br />\n<span style="font-size:18px"><span style="font-family:calibri"><strong>Drink specials:</strong></span></span><br />\n<span style="font-family:calibri">&bull\;&nbsp\;&nbsp\; $2 Jello Shots<br />\n&bull\;&nbsp\;&nbsp\; $5 Guinness\, Smithwick&#39\;s &amp\; Harp<br />\n&bull\;&nbsp\;&nbsp\; $3 Green Beer (while it lasts)<br />\n&bull\;&nbsp\;&nbsp\; $5 Irish Sinkers &amp\; Jameson Shots<br />\n&bull\;&nbsp\;&nbsp\; $4 Bud Light Shamrock Cans</span><br />\n<span style="font-size:18px"><span style="font-family:calibri"><strong>Irish Specials:</strong></span></span><br />\n<span style="font-family:calibri">&bull\;&nbsp\;&nbsp\; Guinness Stew<br />\n&bull\;&nbsp\;&nbsp\; Corned Beef &amp\; Cabbage<br />\n&bull\;&nbsp\;&nbsp\; Corned Beef Reuben<br />\n**Full Menu will be Available after 11:00 AM**<br />\n#PubPattyParty</span></span><br />\n&nbsp\;</div>\n
LOCATION:We are located in Beachwood Place\, next to Saks 5th Avenue.
UID:e.368.1306
SEQUENCE:3
DTSTAMP:20260419T173528Z
URL:https://public.beachwood.org/events/details/st-patrick-s-day-at-the-pub-beachwood-03-17-2015-1306
END:VEVENT

END:VCALENDAR
