BEGIN:VCALENDAR
VERSION:2.0
PRODID:-//ChamberMaster//Event Calendar 2.0//EN
METHOD:PUBLISH
X-PUBLISHED-TTL:P3D
REFRESH-INTERVAL:P3D
CALSCALE:GREGORIAN
BEGIN:VEVENT
DTSTART:20150421T210000Z
DTEND:20150421T230000Z
X-MICROSOFT-CDO-ALLDAYEVENT:FALSE
SUMMARY:Spring Loan Program and Home Improvement Event
DESCRIPTION:Join us after hours to learn more about a variety of home lending programs\, ideas\, and solutions that Key Bank can help you prepare for this Spring. Our bankers will be on hand to showcase solutions that can be customized to your needs. Enjoy this exclusive\, FREE networking and learning opportunity. In addition\, we will have some local businesses on hand to help you explore ideas on improving and updating your home.\n\n\n\nGain valuable knowledge about:\n\n  Mortgage Purchase/Refinance Options\n\n  Home Equity Options\n\n  Heritage Loan Program and H.E.L.P. Loans\n\n  Improvement ideas from local businesses\n\n\n\nRefreshments will be served.\n\n\n\n\n\nApril 21\, 2015\n\n5:00 p.m.   7:00 p.m.\n\n\n\n24600 Chagrin Boulevard\n\nBeachwood\, Ohio 44122
X-ALT-DESC;FMTTYPE=text/html:<p><br />\n<span style="color:black\; font-family:helveticaneueltstd-bd">Join us after hours to learn more about a variety of home lending programs\, ideas\, and solutions that Key Bank can help you prepare for this Spring.&nbsp\;</span><span style="color:black\; font-family:helveticaneueltstd-lt\; line-height:1.6">Our bankers will be on hand to showcase solutions that can be&nbsp\;</span><span style="color:black\; font-family:helveticaneueltstd-lt\; line-height:1.6">customized to your needs. Enjoy this exclusive\, FREE networking&nbsp\;</span><span style="color:black\; font-family:helveticaneueltstd-lt\; line-height:1.6">and learning opportunity. In addition\, we will have some local businesses on hand to help you explore ideas on improving and updating your home.</span></p>\n\n<p><br />\n<span style="color:black\; font-family:helveticaneueltstd-bd">Gain valuable knowledge about</span><span style="color:black\; font-family:helveticaneueltstd-lt">:</span></p>\n\n<p><span style="color:black\; font-family:helveticaneueltstd-lt">&bull\; Mortgage Purchase/Refinance Options</span></p>\n\n<p><span style="color:black\; font-family:helveticaneueltstd-lt">&bull\; Home Equity Options</span></p>\n\n<p><span style="color:black\; font-family:helveticaneueltstd-lt">&bull\; Heritage Loan Program and H.E.L.P. Loans</span></p>\n\n<p><span style="color:black\; font-family:helveticaneueltstd-lt">&bull\; Improvement ideas from local businesses<br />\n<br />\nRefreshments will be served.</span><br />\n<br />\n<br />\n<span style="color:black"><span style="font-family:helveticaneueltstd-bd">April 21\, 2015</span></span><br />\n<span style="color:black"><span style="font-family:helveticaneueltstd-bd">5:00 p.m. &ndash\; 7:00 p.m.</span></span><br />\n<br />\n<span style="color:black"><span style="font-family:helveticaneueltstd-bd">24600 Chagrin Boulevard</span></span><br />\n<span style="color:black"><span style="font-family:helveticaneueltstd-bd">Beachwood\, Ohio 44122</span></span><br />\n<br />\n&nbsp\;&nbsp\;&nbsp\;&nbsp\;<br />\n&nbsp\;</p>\n
LOCATION:24600 Chagrin Blvd. Beachwood\, OH 44122
UID:e.368.3711
SEQUENCE:3
DTSTAMP:20260419T160551Z
URL:https://public.beachwood.org/events/details/spring-loan-program-and-home-improvement-event-04-21-2015-3711
END:VEVENT

END:VCALENDAR
