BEGIN:VCALENDAR
VERSION:2.0
PRODID:-//ChamberMaster//Event Calendar 2.0//EN
METHOD:PUBLISH
X-PUBLISHED-TTL:P3D
REFRESH-INTERVAL:P3D
CALSCALE:GREGORIAN
BEGIN:VEVENT
DTSTART:20180127T230000Z
DTEND:20180128T040000Z
X-MICROSOFT-CDO-ALLDAYEVENT:FALSE
SUMMARY:Somewhere in Time - Cleveland 1870s: Satin & Soot
DESCRIPTION:If you love "History with a Twist"\n\njoin us as we go back in time to Cleveland of the 1870s\n\nat our premier event .\n\n \n\nSomewhere in Time ~Cleveland 1870s: Satin & Soot\n\n \n\nAttendees will enjoy\n\n* Huge Silent Auction including Unique one-of-a-kind NEO Experiences\n\n* Neck and Neck Racing at the Glenville Race Track\n\n* Fleet Avenue Tavern - Polka\, Authentic Cuisine\, a Lager and a Shot\n\n* Tastings from Cleveland's Ethnic Neighborhoods\n\n* After-the-Race Games of Chance at the Roadside Club\n\n* Live Music & Irish Pub Sing-a-long\n\n* Signature Cocktails\, Wine and Suds\n\n \n\nSo have fun...dress like a fat-cat tycoon or a Victorian vixen\,\n\na steampunk hero or a factory floor pageboy\,\n\nand become a part of the era where big name industrialists\,\n\nthe immigrant workforce and cultural institutions were on the rise.\n\n \n\nDon't wait to buy your tickets to\n\n \n\nSomewhere in Time ~ Cleveland 1870s: Satin & Soot\n\n \n\n \n\nAdditional details available here.\n\n\n\nIf you cannot attend\, but would like to make a donation\n\nplease click here.
X-ALT-DESC;FMTTYPE=text/html:<div style="text-align: center\;"><span style="color:#36495F"><span style="font-family:century gothic\,sans-serif"><span style="font-size:10.5pt">If you love&nbsp\;&ldquo\;History&nbsp\;with a Twist&quot\;</span></span></span><br />\n<span style="color:#36495F"><span style="font-family:century gothic\,sans-serif"><span style="font-size:10.5pt">join us as we go back in time to Cleveland of the 1870s</span></span></span><br />\n<span style="color:#36495F"><span style="font-family:century gothic\,sans-serif"><span style="font-size:10.5pt">at&nbsp\;our premier event&hellip\;.</span></span></span><br />\n&nbsp\;<br />\n<span style="color:#36495F"><span style="font-family:arial\,sans-serif"><span style="font-size:10.5pt"><a href="https://www.wrhs.org/events/somewhere-in-time-2/" target="_blank"><strong><span style="color:#DE4E3A"><span style="font-family:century gothic\,sans-serif"><span style="font-size:13.5pt">Somewhere in Time ~Cleveland 1870s: Satin &amp\; Soot</span></span></span></strong></a></span></span></span><br />\n&nbsp\;<br />\n<em><span style="color:#36495F"><span style="font-family:century gothic\,sans-serif"><span style="font-size:10.5pt">Attendees will enjoy</span></span></span></em><br />\n<strong><span style="color:#36495F"><span style="font-family:arial\,sans-serif"><span style="font-size:10.5pt">* Huge Silent Auction including Unique one-of-a-kind NEO Experiences</span></span></span></strong><br />\n<strong><span style="color:#36495F"><span style="font-family:arial\,sans-serif"><span style="font-size:10.5pt">* Neck and Neck Racing at the Glenville Race Track</span></span></span></strong><br />\n<strong><span style="color:#36495F"><span style="font-family:arial\,sans-serif"><span style="font-size:10.5pt">* Fleet Avenue Tavern - Polka\, Authentic Cuisine\, a Lager and a Shot</span></span></span></strong><br />\n<strong><span style="color:#36495F"><span style="font-family:arial\,sans-serif"><span style="font-size:10.5pt">* Tastings from Cleveland&rsquo\;s Ethnic Neighborhoods</span></span></span></strong><br />\n<strong><span style="color:#36495F"><span style="font-family:arial\,sans-serif"><span style="font-size:10.5pt">* After-the-Race Games of Chance at the Roadside Club</span></span></span></strong><br />\n<strong><span style="color:#36495F"><span style="font-family:arial\,sans-serif"><span style="font-size:10.5pt">* Live Music &amp\; Irish Pub Sing-a-long</span></span></span></strong><br />\n<strong><span style="color:#36495F"><span style="font-family:arial\,sans-serif"><span style="font-size:10.5pt">* Signature Cocktails\, Wine and Suds</span></span></span></strong><br />\n&nbsp\;<br />\n<span style="color:#36495F"><span style="font-family:century gothic\,sans-serif"><span style="font-size:10.5pt">So have fun...dress like a fat-cat tycoon or a Victorian vixen\,</span></span></span><br />\n<span style="color:#36495F"><span style="font-family:century gothic\,sans-serif"><span style="font-size:10.5pt">a steampunk hero or a factory floor pageboy\,</span></span></span><br />\n<span style="color:#36495F"><span style="font-family:century gothic\,sans-serif"><span style="font-size:10.5pt">and become a part of the era where big name industrialists\,</span></span></span><br />\n<span style="color:#36495F"><span style="font-family:century gothic\,sans-serif"><span style="font-size:10.5pt">the immigrant workforce and cultural institutions were on the rise.</span></span></span><br />\n&nbsp\;<br />\n<span style="color:#36495F"><span style="font-family:century gothic\,sans-serif"><span style="font-size:10.5pt">Don&#39\;t wait to buy your tickets to</span></span></span><br />\n&nbsp\;<br />\n<span style="color:#36495F"><span style="font-family:arial\,sans-serif"><span style="font-size:10.5pt"><a href="https://www.wrhs.org/events/somewhere-in-time-2/" target="_blank"><strong><span style="color:#DE4E3A"><span style="font-family:century gothic\,sans-serif"><span style="font-size:12.0pt">Somewhere in Time ~ Cleveland 1870s: Satin &amp\; Soot</span></span></span></strong></a></span></span></span><br />\n&nbsp\;<br />\n&nbsp\;<br />\n<span style="color:#36495F"><span style="font-family:century gothic\,sans-serif"><span style="font-size:10.5pt">Additional details available&nbsp\;</span></span></span><span style="color:#36495F"><span style="font-family:arial\,sans-serif"><span style="font-size:10.5pt"><a href="https://www.wrhs.org/events/somewhere-in-time-2/" target="_blank"><strong><span style="color:#DE4E3A"><span style="font-family:century gothic\,sans-serif">here.</span></span></strong></a></span></span></span><br />\n<br />\n<span style="color:#36495F"><span style="font-family:century gothic\,sans-serif"><span style="font-size:10.5pt">If you cannot attend\, but would like to make a donation</span></span></span><br />\n<span style="color:#36495F"><span style="font-family:arial\,sans-serif"><span style="font-size:10.5pt"><a href="https://www.wrhs.org/product/donation/" target="_blank"><strong><span style="color:#DE4E3A"><span style="font-family:century gothic\,sans-serif">please click here.</span></span></strong></a></span></span></span></div>\n
LOCATION:Cleveland History Center 10825 East Blvd. Cleveland OH 44106
UID:e.368.6469
SEQUENCE:3
DTSTAMP:20260421T031542Z
URL:https://public.beachwood.org/events/details/somewhere-in-time-cleveland-1870s-satin-soot-6469
END:VEVENT

END:VCALENDAR
