BEGIN:VCALENDAR
VERSION:2.0
PRODID:-//ChamberMaster//Event Calendar 2.0//EN
METHOD:PUBLISH
X-PUBLISHED-TTL:P3D
REFRESH-INTERVAL:P3D
CALSCALE:GREGORIAN
BEGIN:VEVENT
DTSTART:20141209T190000Z
DTEND:20141209T210000Z
X-MICROSOFT-CDO-ALLDAYEVENT:FALSE
SUMMARY:"Something Different" Art Show Opening reception
DESCRIPTION:Something Different"\, an exhibition of non-traditional and often surprising works by four local artists. The artists are: Eric Alleman collage and stencil)\; Mike Cargile (dumspta art and photography)\;\n\nShannon Casey (figurative painting)\; and Cari Miller (repurposed art). An artist's Reception will be held Sunday December 9 from 2 to 4 pm. The show will be on display through December 28th. Works available for purchase\, with a portion of sales benefitting the Friends of the library. For more information\, visit the Beachwood Branch Page at www.cuyahogalibrary.org.
X-ALT-DESC;FMTTYPE=text/html:Something Different&quot\;\, an exhibition of non-traditional and often surprising works by four local artists. The artists are: Eric Alleman collage and stencil)\; Mike Cargile (dumspta art and photography)\;<br />\nShannon Casey (figurative painting)\; and Cari Miller (repurposed art). An artist&#39\;s Reception will be held Sunday December 9 from 2 to 4 pm. The show will be on display through December 28th. Works available for purchase\, with a portion of sales benefitting the Friends of the library. For more information\, visit the Beachwood Branch Page at www.cuyahogalibrary.org.
LOCATION:Beachwood Branch of Cuyahoga County Public Library 25501 Shaker Blvd Beachwood OH 44122
UID:e.368.856
SEQUENCE:3
DTSTAMP:20260419T213129Z
URL:https://public.beachwood.org/events/details/something-different-art-show-opening-reception-12-09-2014-856
END:VEVENT

END:VCALENDAR
