BEGIN:VCALENDAR
VERSION:2.0
PRODID:-//ChamberMaster//Event Calendar 2.0//EN
METHOD:PUBLISH
X-PUBLISHED-TTL:P3D
REFRESH-INTERVAL:P3D
CALSCALE:GREGORIAN
BEGIN:VEVENT
DTSTART:20140910T230000Z
DTEND:20140911T000000Z
X-MICROSOFT-CDO-ALLDAYEVENT:FALSE
SUMMARY:Solving the Retirement Income Puzzle
DESCRIPTION:Whether you are already retired or preparing for the future\, join us for a discussion of strategies and vehicles to help maintain your income during retirement. Topics include:\n  Three major retirement risks\n\n  Potential sources of income\n\n  Transition from accumulation to distribution\n\n  The process of managing retirement income\n\n  How to avoid running out of money\n\nPresented by The Society for Financial Awareness
X-ALT-DESC;FMTTYPE=text/html:&nbsp\;Whether you are already retired or preparing for the future\, join us for a discussion of strategies and vehicles to help maintain your income during retirement. Topics include:\n<div style="MARGIN-LEFT: 20px">&bull\; Three major retirement risks<br />\n&bull\; Potential sources of income<br />\n&bull\; Transition from accumulation to distribution<br />\n&bull\; The process of managing retirement income<br />\n&bull\; How to avoid running out of money<br />\nPresented by The Society for Financial Awareness</div>\n
LOCATION:Beachwood Branch of Cuyahoga County Pubic Library 25501 Shaker Blvd Beachwood OH 44122
UID:e.368.1166
SEQUENCE:3
DTSTAMP:20260420T030610Z
URL:https://public.beachwood.org/events/details/solving-the-retirement-income-puzzle-09-10-2014-1166
END:VEVENT

END:VCALENDAR
