BEGIN:VCALENDAR
VERSION:2.0
PRODID:-//ChamberMaster//Event Calendar 2.0//EN
METHOD:PUBLISH
X-PUBLISHED-TTL:P3D
REFRESH-INTERVAL:P3D
CALSCALE:GREGORIAN
BEGIN:VEVENT
DTSTART;VALUE=DATE:20090302
DTEND;VALUE=DATE:20090303
TRANSP:TRANSPARENT
X-MICROSOFT-CDO-ALLDAYEVENT:TRUE
SUMMARY:Smart Consumer Resource Fair
DESCRIPTION:Money is tight these days\, which makes stretching your dollars more important than ever.  Attend a Smart Consumer Resource Fair in your neighborhood and get the necesary tools to protect your pocketbook and avoid scams. In Cleveland\, Ohio\, the Fair will be held onMonday\, March 2nd11:30 AM - 1:30 PMat 601 Lakeside Avenue The event is sponsored by the Ohio Attorney General's Office\, Ohio Consumers Counsel\, US Postal Service\,City of Clvelnad and a number of other agencies and organizations. For additional information on events being added daily\, contact Oho Attorney General Richard Cordray's Help Center at 1-800-282-0515. Website: speakeoutohio.gov
X-ALT-DESC;FMTTYPE=text/html:<div>Money is tight these days\, which makes stretching your dollars more important than ever.&nbsp\; Attend a Smart Consumer Resource Fair in your neighborhood and get the necesary tools to protect your pocketbook and avoid scams.</div><div>&nbsp\;</div><div>In Cleveland\, Ohio\, the Fair will be held on</div><div>Monday\, March 2nd</div><div>11:30 AM - 1:30 PM</div><div>at 601 Lakeside Avenue</div><div>&nbsp\;</div><div>The event is sponsored by the Ohio Attorney General's Office\, Ohio Consumers Counsel\, US Postal Service\,City of Clvelnad and a number of other agencies and organizations.</div><div>&nbsp\;</div><div>For additional information on events being added daily\, contact Oho Attorney General Richard Cordray's Help Center at 1-800-282-0515.</div><div>&nbsp\;</div><div>Website: speakeoutohio.gov</div>
LOCATION:601 Lakeside AveCleveland
UID:e.368.163
SEQUENCE:3
DTSTAMP:20260423T202252Z
URL:https://public.beachwood.org/events/details/smart-consumer-resource-fair-03-02-2009-163
END:VEVENT

END:VCALENDAR
