BEGIN:VCALENDAR
VERSION:2.0
PRODID:-//ChamberMaster//Event Calendar 2.0//EN
METHOD:PUBLISH
X-PUBLISHED-TTL:P3D
REFRESH-INTERVAL:P3D
CALSCALE:GREGORIAN
BEGIN:VEVENT
DTSTART:20140709T230000Z
DTEND:20140710T003000Z
X-MICROSOFT-CDO-ALLDAYEVENT:FALSE
SUMMARY:SKYPE with "Elliot Ness" Author Douglas Perry
DESCRIPTION:On Wednesday  July 9 at 7 pm\,  join the History Book Club in a discussion of Eliot Ness: The Rise and Fall of  an American Hero by Douglas Perry.\n\nDoug will join the discussion from Portland via Skype! Copies of the book are available at the branch\, but you do not need to read the book to attend.\n\nPlease register at www.cuyahogalibrary.org or call 216-831-6868.
X-ALT-DESC;FMTTYPE=text/html:<p>&nbsp\;On Wednesday&nbsp\; July 9 at 7 pm\,&nbsp\; join the History Book Club in a discussion of Eliot Ness: The Rise and Fall of&nbsp\; an American Hero by Douglas Perry.<br />\nDoug will join the discussion from Portland via Skype! Copies of the book are available at the branch\, but you do not need to read the book to attend.</p>\n\n<p>Please register at www.cuyahogalibrary.org or call 216-831-6868.</p>\n
LOCATION:Beachwood Branch of Cuyahoga County Public Library 25501 Shaker Blvd Beachwood OH 44122
UID:e.368.1134
SEQUENCE:3
DTSTAMP:20260420T044205Z
URL:https://public.beachwood.org/events/details/skype-with-elliot-ness-author-douglas-perry-07-09-2014-1134
END:VEVENT

END:VCALENDAR
