BEGIN:VCALENDAR
VERSION:2.0
PRODID:-//ChamberMaster//Event Calendar 2.0//EN
METHOD:PUBLISH
X-PUBLISHED-TTL:P3D
REFRESH-INTERVAL:P3D
CALSCALE:GREGORIAN
BEGIN:VEVENT
DTSTART:20081205T140000Z
DTEND:20081205T170000Z
X-MICROSOFT-CDO-ALLDAYEVENT:FALSE
SUMMARY:Six Sigma at B-W
DESCRIPTION:Improving Service Organizations Through Six Sigma - The Real Story Essential elements:Understand the principals behind Six SigmaDiscover how to identify potential projects within your own organization that would benefit from Six SigmaWho should attend:Anyone who would like to improve their processes and customer satisfaction within the service or health care industries should attend. A familiarity with Six Sigma is recommended but not required. This is a FREE event sponsored by Baldwin Wallace College East.  For the agenda\, speakers\, etc.\, please click here to download the event flier.
X-ALT-DESC;FMTTYPE=text/html:<div><font color="#333399" size="3"><strong>Improving Service Organizations Through Six Sigma - The Real Story</strong></font></div><div><font color="#333399">&nbsp\;</font></div><div><strong><em><font color="#333399">Essential elements:</font></em></strong></div><ul><li><font color="#333399">Understand the principals behind Six Sigma</font></li><li><font color="#333399">Discover how to identify potential projects within your own organization that would benefit from Six Sigma</font></li></ul><div><strong><em><font color="#333399">Who should attend:</font></em></strong></div><div><font color="#333399">Anyone who would like to improve their processes and customer satisfaction within the service or health care industries should attend. A familiarity with Six Sigma is recommended but not required.</font></div><div><font color="#333399">&nbsp\;</font></div><div align="left"><font color="#333399"><em>This is a FREE event sponsored by Baldwin Wallace College East.&nbsp\; For the agenda\, speakers\, etc.\, please </em></font><a href="https://secure.chambermaster.com/FCKeditor/UserFiles/chambers/368/File/BW-Dec5.pdf"><font color="#333399"><em>click here</em></font></a><font color="#333399"><em> to download the event flier.</em></font></div>
LOCATION:Baldwin Wallace College East25700 Science Park DriveBeachwood
UID:e.368.127
SEQUENCE:3
DTSTAMP:20260423T234642Z
URL:https://public.beachwood.org/events/details/six-sigma-at-b-w-12-05-2008-127
END:VEVENT

END:VCALENDAR
