BEGIN:VCALENDAR
VERSION:2.0
PRODID:-//ChamberMaster//Event Calendar 2.0//EN
METHOD:PUBLISH
X-PUBLISHED-TTL:P3D
REFRESH-INTERVAL:P3D
CALSCALE:GREGORIAN
BEGIN:VEVENT
DTSTART:20141122T010000Z
DTEND:20141122T040000Z
X-MICROSOFT-CDO-ALLDAYEVENT:FALSE
SUMMARY:Shrek The Musical
DESCRIPTION:The Beachwood Recreation Community Theater Presents Shrek The Musical.  Tickets sold day of performance at Bechwood Middle School one hour prior to performance.  Doors open 30 minutes before showtime.
X-ALT-DESC;FMTTYPE=text/html:The Beachwood Recreation Community Theater Presents Shrek The Musical.&nbsp\; Tickets sold day of performance at Bechwood Middle School one hour prior to performance.&nbsp\; Doors open 30 minutes before showtime.
LOCATION:Beachwood Middle School Auditorium
UID:e.368.1184
SEQUENCE:3
DTSTAMP:20260420T001743Z
URL:https://public.beachwood.org/events/details/shrek-the-musical-11-21-2014-1184
END:VEVENT

END:VCALENDAR
