BEGIN:VCALENDAR
VERSION:2.0
PRODID:-//ChamberMaster//Event Calendar 2.0//EN
METHOD:PUBLISH
X-PUBLISHED-TTL:P3D
REFRESH-INTERVAL:P3D
CALSCALE:GREGORIAN
BEGIN:VEVENT
DTSTART:20160127T000000Z
DTEND:20160127T013000Z
X-MICROSOFT-CDO-ALLDAYEVENT:FALSE
SUMMARY:Shelley Costa National Book Launch
DESCRIPTION:Join us to  celebrate the launch of Practical Sins for Cold Climates \, the first book in her  new mystery series by Cleveland's own Shelley Costa. In this edgy debut\,  New York publishing executive Val Cameron travels to a tiny town in Ontario to sign a reclusive author. While trying to adjust to life in a small town she discovers secrets that might involve a murder. Books will be available for purchase and signing courtesy of Mac's Backs Books on Coventry. Please register at www.cuyahogalibrary.org or call 216-831-6868.
X-ALT-DESC;FMTTYPE=text/html:Join us to&nbsp\; celebrate the launch of Practical Sins for Cold Climates \, the first book in her&nbsp\; new mystery series by Cleveland&#39\;s own Shelley Costa. In this edgy debut\,&nbsp\; New York publishing executive Val Cameron travels to a tiny town in Ontario to sign a reclusive author. While trying to adjust to life in a small town she discovers secrets that might involve a murder. Books will be available for purchase and signing courtesy of Mac&#39\;s Backs Books on Coventry. Please register at www.cuyahogalibrary.org or call 216-831-6868.<br />\n&nbsp\;
LOCATION:Beachwood Branch of Cuyahoga County Public Library 25501 Shaker Blvd Beachwood OH 44122
UID:e.368.4814
SEQUENCE:3
DTSTAMP:20260420T073901Z
URL:https://public.beachwood.org/events/details/shelley-costa-national-book-launch-01-26-2016-4814
END:VEVENT

END:VCALENDAR
