BEGIN:VCALENDAR
VERSION:2.0
PRODID:-//ChamberMaster//Event Calendar 2.0//EN
METHOD:PUBLISH
X-PUBLISHED-TTL:P3D
REFRESH-INTERVAL:P3D
CALSCALE:GREGORIAN
BEGIN:VEVENT
DTSTART:20150315T180000Z
DTEND:20150315T203000Z
X-MICROSOFT-CDO-ALLDAYEVENT:FALSE
SUMMARY:Seussical The Musical
DESCRIPTION:Beachwood Recreation Community Threater Presents Seussical the Musical.  This musical takes audiences to the land of WHO.  This show for all ages will enchant and amuse.
X-ALT-DESC;FMTTYPE=text/html:Beachwood Recreation Community Threater Presents Seussical the Musical.&nbsp\; This musical takes audiences to the land of WHO.&nbsp\; This show for all ages will enchant and amuse.
LOCATION:Beachwood Middle School
UID:e.368.1302
SEQUENCE:3
DTSTAMP:20260419T173444Z
URL:https://public.beachwood.org/events/details/seussical-the-musical-03-15-2015-1302
END:VEVENT

END:VCALENDAR
