BEGIN:VCALENDAR
VERSION:2.0
PRODID:-//ChamberMaster//Event Calendar 2.0//EN
METHOD:PUBLISH
X-PUBLISHED-TTL:P3D
REFRESH-INTERVAL:P3D
CALSCALE:GREGORIAN
BEGIN:VEVENT
DTSTART:20150314T200000Z
DTEND:20150314T223000Z
X-MICROSOFT-CDO-ALLDAYEVENT:FALSE
SUMMARY:Seussical The Musical
DESCRIPTION:Beachwood Recreation Community Theater Presents Seussical The Musical. All performances held at Beachwood Middle School.  THis musical takes audiences to the land of WHO.  This show for all ages will enchant and amuse.
X-ALT-DESC;FMTTYPE=text/html:Beachwood Recreation Community Theater Presents Seussical The Musical. All performances held at Beachwood Middle School.&nbsp\; THis musical takes audiences to the land of WHO.&nbsp\; This show for all ages will enchant and amuse.
LOCATION:Beachwood Middle School
UID:e.368.1299
SEQUENCE:3
DTSTAMP:20260419T185823Z
URL:https://public.beachwood.org/events/details/seussical-the-musical-03-14-2015-1299
END:VEVENT

END:VCALENDAR
