BEGIN:VCALENDAR
VERSION:2.0
PRODID:-//ChamberMaster//Event Calendar 2.0//EN
METHOD:PUBLISH
X-PUBLISHED-TTL:P3D
REFRESH-INTERVAL:P3D
CALSCALE:GREGORIAN
BEGIN:VEVENT
DTSTART:20150502T220000Z
DTEND:20150503T023000Z
X-MICROSOFT-CDO-ALLDAYEVENT:FALSE
SUMMARY:Serve It Up for A Kid Again
DESCRIPTION:Would you like to help kids who are battling life-threatening illnesses (right here in Northern Ohio) give illness a Giant Time Out?  Then Serve It Up is where you need to be!\n\nA Kid Again is an Ohio based nonprofit with a chapter right here in Northern Ohio.  A Kid Again provides hope\, happiness and healing to families raising children with life-threatening illnesses through fun-filled\, cost-free\, group Adventures thorughout the year.\n\nServe It Up is For Tennis Players and Non-Tennis Players Alike\n\nand is a fun\, unique mixer/social event for a cause!\n\n Everyone will enjoy heavy  appetizers\, silent auction\, side boards\, and live jazz provided by Cleveland's own Transportation Boulevard and at the beautiful Cleveland Racquet Club.  Tennis players will participate in the "Davis Cup"  mixer and as non-players can cheer on their favorite team. (Cash Bar)\n\nNote:  Teams will be mixed doubles and will be created by Cleveland Racquet Club pros based on USTA ratings. \n\n$75.00 for tennis players                    $50.00 for non-players\n\nCleveland Racquet Club is a traditional club.  All tennis players must wear 90% white tennis attire.  Non-players attire:  Club Casual.\n\nFor more information go to www.akidagain.org/serveitup
X-ALT-DESC;FMTTYPE=text/html:<p style="text-align: center\;"><span style="color:rgb(0\, 0\, 205)"><em><strong><span style="font-family:andale mono\,times\; font-size:medium">Would you like to help kids who are battling life-threatening illnesses (right here in Northern Ohio) give illness a Giant Time Out? &nbsp\;Then Serve It Up is where you need to be!</span></strong></em></span></p>\n\n<p style="text-align: center\;"><span style="font-family:comic sans ms\,sans-serif\; font-size:medium"><span style="color:rgb(102\, 102\, 102)\; font-family:benton sans\,helvetica neue\,helvetica\,roboto\,arial\,sans-serif\; font-size:15px"><em>A Kid Again is an Ohio based nonprofit with a chapter right here in Northern Ohio. &nbsp\;A Kid Again provides hope\, happiness and healing to families raising children with life-threatening illnesses through fun-filled\, cost-free\, group Adventures thorughout the year</em>.</span></span></p>\n\n<p style="text-align: center\;"><strong><span style="color:rgb(0\, 0\, 255)"><em>Serve It Up is For Tennis </em></span></strong><strong><span style="color:rgb(0\, 0\, 255)"><em>Players </em></span></strong><strong><span style="color:rgb(0\, 0\, 255)"><em><u>and</u></em></span></strong><strong><span style="color:rgb(0\, 0\, 255)"><em><u> </u>Non-Tennis Players Alike<br />\nand is a fun\, unique mixer/social event for a cause!</em></span></strong></p>\n\n<p style="text-align: center\;"><span style="font-size:14px"><strong><span style="color:rgb(0\, 0\, 205)"><span style="font-family:georgia">&nbsp\;</span>Everyone</span> </strong><span style="font-family:georgia">will enjoy heavy&nbsp\; appetizers\, silent auction\, side boards\, and <strong><span style="color:rgb(0\, 0\, 205)">live jazz </span></strong>provided by Cleveland&rsquo\;s own <strong><span style="color:rgb(0\, 0\, 205)">Transportation Boulevard </span></strong>and at the beautiful&nbsp\;</span><span style="color:rgb(0\, 0\, 205)"><strong><em>Cleveland Racquet Club</em></strong></span><span style="font-family:georgia">. &nbsp\;</span><span style="font-family:georgia">Tennis players will participate in the &ldquo\;Davis Cup&rdquo\;&nbsp\; mixer and as non-players can cheer on their favorite team.&nbsp\;(Cash Bar)</span></span></p>\n\n<p style="text-align: center\;"><span style="color:rgb(51\, 204\, 204)"><em><span style="font-family:arial black\,avant garde">Note: &nbsp\;Teams will be mixed doubles and will be created by&nbsp\;</span></em></span><em><span style="font-family:arial black\,avant garde">Cleveland Racquet Club pros&nbsp\;</span><span style="font-family:arial black\,avant garde">based on USTA ratings.</span>&nbsp\;</em></p>\n\n<p style="text-align: center\;"><span style="font-family:georgia"><span style="font-size:16px">$75.00 for tennis players &nbsp\; &nbsp\; &nbsp\; &nbsp\; &nbsp\; &nbsp\; &nbsp\; &nbsp\; &nbsp\; &nbsp\;</span></span><span style="font-family:georgia\; font-size:16px">$50.00 for non-players</span></p>\n\n<p style="text-align: center\;"><strong><span style="font-family:georgia"><span style="font-size:16px">Cleveland Racquet Club is a traditional club. &nbsp\;</span></span></strong><strong><span style="font-family:georgia"><span style="font-size:16px">All tennis players must&nbsp\;</span></span><span style="font-family:georgia\; font-size:16px">wear 90% white tennis attire. <u>&nbsp\;</u></span></strong><strong><span style="font-family:georgia"><span style="font-size:16px"><u>Non-players attire: &nbsp\;Club Casual</u>.</span></span></strong></p>\n\n<p style="text-align: center\;"><span style="font-family:georgia"><span style="font-size:16px">For more information go to www.akidagain.org/serveitup</span></span></p>\n
LOCATION:The Cleveland Racquet Club 29825 Chagrin Blvd Pepper Pike\, OH 44124
UID:e.368.3721
SEQUENCE:3
DTSTAMP:20260419T122254Z
URL:https://public.beachwood.org/events/details/serve-it-up-for-a-kid-again-05-02-2015-3721
END:VEVENT

END:VCALENDAR
