BEGIN:VCALENDAR
VERSION:2.0
PRODID:-//ChamberMaster//Event Calendar 2.0//EN
METHOD:PUBLISH
X-PUBLISHED-TTL:P3D
REFRESH-INTERVAL:P3D
CALSCALE:GREGORIAN
BEGIN:VEVENT
DTSTART:20150902T210000Z
DTEND:20150902T223000Z
X-MICROSOFT-CDO-ALLDAYEVENT:FALSE
SUMMARY:September Networking After Five
DESCRIPTION:September Networking After Five\n\n\n\nJoin us for our monthly Networking After Five event at Easthaven at the Village.\n\n\n\nLight refreshments will be served.
X-ALT-DESC;FMTTYPE=text/html:<span style="color:#0071B6\;"><strong><span style="font-size:16px\;">September Networking After Five</span></strong><br />\n<br />\nJoin us for our monthly Networking After Five event at Easthaven at the Village.<br />\n<br />\nLight refreshments will be served.</span>
LOCATION:Easthaven at the Village Easthaven Clubhouse Welcome Center 26900 Amhearst Circle Beachwood\, OH 44122 Please use George Zeigler Drive entrance to enter the Village.
UID:e.368.1281
SEQUENCE:3
DTSTAMP:20260420T014116Z
URL:https://public.beachwood.org/events/details/september-networking-after-five-09-02-2015-1281
END:VEVENT

END:VCALENDAR
