BEGIN:VCALENDAR
VERSION:2.0
PRODID:-//ChamberMaster//Event Calendar 2.0//EN
METHOD:PUBLISH
X-PUBLISHED-TTL:P3D
REFRESH-INTERVAL:P3D
CALSCALE:GREGORIAN
BEGIN:VEVENT
DTSTART:20140909T210000Z
DTEND:20140909T223000Z
X-MICROSOFT-CDO-ALLDAYEVENT:FALSE
SUMMARY:September Networking Afer Five
DESCRIPTION:September Networking After Five Event\n\n\n\nJoin us for light refreshments and an informal networking event at Easthaven at the Village.\n\n\n\nClick Here to visit Easthaven at the Village luxury apartments now.
X-ALT-DESC;FMTTYPE=text/html:September Networking After Five Event<br />\n<br />\n<b><span _mce_style="font-size: 14pt\; color: #000000\;" style="font-size: 14pt\;"><span _mce_style="font-size: 9.0pt\;" style="font-size: 9.0pt\;"><strong><strong><span _mce_style="color: #5e0069\; font-size: 10pt\;" style="font-size: 10pt\;">Join us for light refreshments and an informal networking event at Easthaven at the Village.<br />\n<br />\n<a href="http://www.easthavenatthevillage.com/">Click Here</a> to visit Easthaven at the Village luxury apartments now.</span></strong></strong></span></span></b><br />\n&nbsp\;
LOCATION:Easthaven at the Village Easthaven Clubhouse Welcome Center 26900 Amhearst Circle Beachwood\, OH 44122
UID:e.368.1121
SEQUENCE:3
DTSTAMP:20260420T014117Z
URL:https://public.beachwood.org/events/details/september-networking-afer-five-09-09-2014-1121
END:VEVENT

END:VCALENDAR
