BEGIN:VCALENDAR
VERSION:2.0
PRODID:-//ChamberMaster//Event Calendar 2.0//EN
METHOD:PUBLISH
X-PUBLISHED-TTL:P3D
REFRESH-INTERVAL:P3D
CALSCALE:GREGORIAN
BEGIN:VEVENT
DTSTART:20190904T153000Z
DTEND:20190904T170000Z
X-MICROSOFT-CDO-ALLDAYEVENT:FALSE
SUMMARY:September 2019 Western Reserve Safety Council Meeting
DESCRIPTION:Topic:  Safety Culture--How do We Measure It?\n\nA Panel Discussion\n\nPanelists: Andrew Kusanke\, COSMAX\; Aaron Heinert\, Nestle USA\, TBD\n \n\n \n\nClick here to Register
X-ALT-DESC;FMTTYPE=text/html:<h1><strong>Topic:&nbsp\; Safety Culture--How do We Measure It?<br />\nA Panel Discussion</strong></h1>\n\n<h2><strong><span style="font-family: arial\; font-size: 14px\;"><span style="font-size: 16px\;">Panelists: Andrew Kusanke\, COSMAX\; Aaron Heinert\, Nestle USA\, TBD</span></span></strong></h2>\n&nbsp\;\n\n<p -webkit-text-stroke-width:="" font-size:="" font-style:="" font-variant:="" font-weight:="" letter-spacing:="" line-height:="" margin-bottom:="" margin-left:="" margin-right:="" margin-top:="" orphans:="" padding-bottom:="" padding-left:="" padding-right:="" padding-top:="" style="background-color: transparent\; box-sizing: border-box\; color: rgb(0\, 0\, 0)\; font-family: " text-align:="" text-decoration:="" text-indent:="" text-transform:="" titillium="" white-space:="" word-spacing:="">&nbsp\;</p>\n\n<p><a href="https://web.westernreservesc.org/events/WRSCProgram%20Safety%20Culture%20%20How%20do%20we%20measure%20it%20A%20Panel%20Discusion-6537/details"><em><strong><span style="font-size:14px\;">Click here to Register</span></strong></em></a></p>\n
LOCATION:Mustard Seed Market & Cafe (second floor) 6025 Kruse Drive Solon\, OH 44139
UID:e.368.8158
SEQUENCE:3
DTSTAMP:20260420T134602Z
URL:https://public.beachwood.org/events/details/september-2019-western-reserve-safety-council-meeting-8158
END:VEVENT

END:VCALENDAR
