BEGIN:VCALENDAR
VERSION:2.0
PRODID:-//ChamberMaster//Event Calendar 2.0//EN
METHOD:PUBLISH
X-PUBLISHED-TTL:P3D
REFRESH-INTERVAL:P3D
CALSCALE:GREGORIAN
BEGIN:VEVENT
DTSTART:20190904T210000Z
DTEND:20190904T223000Z
X-MICROSOFT-CDO-ALLDAYEVENT:FALSE
SUMMARY:September 2019 Networking After Five
DESCRIPTION:Join the Chamber for this month's for Networking After Five at Blu\, The Restaurant\, formerly Moxie.  \n\n\n\nBlu\, a restaurant built on a simple premise\; using fresh\, seasonal and local ingredients\, made and served by passionate people\, for an unparalleled dining experience. Bringing you the highest quality seafood\, perfectly marbled beef\, and from-scratch dishes that pay honor to our roots. From raw bar\, to wagyu\, from craft cocktails to award-winning wines\, Blu. \n\n\n\nEnjoy\n\n	Light Refreshments\n	Networking tips\n	Drawing for a gift certificate\n\nRemember to bring your business cards!
X-ALT-DESC;FMTTYPE=text/html:Join the Chamber for this month&#39\;s for Networking After Five at Blu\, The Restaurant\, formerly Moxie. &nbsp\;<br />\n<br />\n<span class="x-el x-el-span c1-7q c1-7r c1-b c1-c c1-d c1-e x-d-ux">Blu\, a restaurant built on a simple premise\; using fresh\, seasonal and local ingredients\, made and served by passionate people\, for an unparalleled dining experience. Bringing you the highest quality seafood\, perfectly marbled beef\, and from-scratch dishes that pay honor to our roots. From raw bar\, to wagyu\, from craft cocktails to award-winning wines\, Blu. </span><br />\n<br />\nEnjoy\n<ul>\n	<li>Light Refreshments</li>\n	<li>Networking tips</li>\n	<li>Drawing for a gift certificate</li>\n</ul>\nRemember to bring your business cards!
LOCATION:Blu\, The Restaurant 3355 Richmond Road Beachwood
UID:e.368.8103
SEQUENCE:3
DTSTAMP:20260420T134144Z
URL:https://public.beachwood.org/events/details/september-2019-networking-after-five-8103
END:VEVENT

END:VCALENDAR
