BEGIN:VCALENDAR
VERSION:2.0
PRODID:-//ChamberMaster//Event Calendar 2.0//EN
METHOD:PUBLISH
X-PUBLISHED-TTL:P3D
REFRESH-INTERVAL:P3D
CALSCALE:GREGORIAN
BEGIN:VEVENT
DTSTART:20190912T153000Z
DTEND:20190912T170000Z
X-MICROSOFT-CDO-ALLDAYEVENT:FALSE
SUMMARY:September 2019 Beachwood Women's Connection
DESCRIPTION:Up and Coming Careers for Women ... and how to leverage existing skills to get them!\n\n\n\nOur speakers:\n\n\n	Angela Clark-Taylor\, PhD\, Director\, Flora Stone Mather Center for Women\n	Sue Freimark\, Senior Associate Director\, Women Faculty Leadership Institute\, Flora Stone Mather Center for Women\n	Sue Nelson\, Founding Director\, The Job Search Center\n	Jaudia Quinn\, Operations Manager\, Launch House\n\n\n\n\nThis month's event will be hosted by Siegal Lifelong Learning.\n\non Thursday\, September 12th\n\nfrom 11:30 AM - 1:00 PM\n\n\n\nWomen's Connection is a networking event sponsored by the Beachwood Chamber of Commerce\, providing lively\, educational and interactive gatherings in a variety of Beachwood venues.
X-ALT-DESC;FMTTYPE=text/html:<div><strong>Up and Coming Careers for Women ... and how to leverage existing skills to get them!</strong><br />\n<br />\n<strong>Our speakers:</strong></div>\n\n<ul>\n	<li><strong>Angela Clark-Taylor</strong>\, PhD\, Director\, Flora Stone Mather Center for Women</li>\n	<li><strong>Sue Freimark\,</strong> Senior Associate Director\, Women Faculty Leadership Institute\, Flora Stone Mather Center for Women</li>\n	<li><strong>Sue Nelson</strong>\, Founding Director\, The Job Search Center</li>\n	<li><strong>Jaudia Quinn</strong>\, Operations Manager\, Launch House</li>\n</ul>\n\n<p><br />\nThis month&#39\;s event will be hosted by Siegal Lifelong Learning.</p>\n\n<p>on Thursday\, September 12th</p>\n\n<p>from 11:30 AM - 1:00 PM<br />\n<br />\n<em>Women&#39\;s Connection is a networking event sponsored by the Beachwood Chamber of Commerce\, providing lively\, educational and interactive gatherings in a variety of Beachwood venues.</em><br />\n<br />\n&nbsp\;</p>\n
LOCATION:Siegal Lifelong Learning 25700 Science Park Drive\, Suite 100 Beachwood
UID:e.368.8166
SEQUENCE:3
DTSTAMP:20260420T134834Z
URL:https://public.beachwood.org/events/details/september-2019-beachwood-women-s-connection-8166
END:VEVENT

END:VCALENDAR
