BEGIN:VCALENDAR
VERSION:2.0
PRODID:-//ChamberMaster//Event Calendar 2.0//EN
METHOD:PUBLISH
X-PUBLISHED-TTL:P3D
REFRESH-INTERVAL:P3D
CALSCALE:GREGORIAN
BEGIN:VEVENT
DTSTART:20141228T140000Z
DTEND:20141229T020000Z
X-MICROSOFT-CDO-ALLDAYEVENT:FALSE
SUMMARY:Seph Lawless Art Exhibit at the Beachwood Library
DESCRIPTION:An  exhibit of photographs by Cleveland artist Seph Lawless. Seph has received widespread national media attention for his photos of abandoned buildings. "I wanted Americans to see what was happening to their country from the comfort of their suburban homes and smart phones."-Seph Lawless (ABC NEWS)His work is currently on display at the Amerikahaus Museum in  Munich\, Germany and the library show is a replica of that exhibit. \n\nVisitors to the exhibit will be able to bid on pieces in a month long silent auction\, with 100% of the money raised donated to the Greater Cleveland Food Bank. \n\nSeph is also the author of three bestselling books\, including Black Friday: Ghostly Images of American Malls\, which will be available for purchase and signing at a Meet and Greet on Saturday December 6 from 3 to 5 pm.  All proceeds from book sales\, as well as sales of prints and books at  www.sephlawless.com will also  be donated to the Food Bank.  We will also be taking food donations. \n\n\n\nFor more information contact me at 216-831-6868
X-ALT-DESC;FMTTYPE=text/html:An &nbsp\;exhibit of photographs by Cleveland artist Seph Lawless. Seph has received widespread national media attention for his photos of abandoned buildings.&nbsp\;&quot\;I wanted Americans to see what was happening to their country from the comfort of their suburban homes and smart phones.&quot\;-Seph Lawless (ABC NEWS)His work is currently on display at the Amerikahaus Museum in &nbsp\;Munich\, Germany and the library show is a replica of that exhibit.&nbsp\;<br />\nVisitors to the exhibit will be able to bid on pieces in a month long silent auction\, with 100% of the money raised donated to the Greater Cleveland Food Bank.&nbsp\;<br />\nSeph is also the author of three bestselling books\, including Black Friday: Ghostly Images of American Malls\, which will be available for purchase and signing at a Meet and Greet on Saturday December 6 from 3 to 5 pm. &nbsp\;All proceeds from book sales\, as well as sales of prints and books at &nbsp\;www.sephlawless.com will also &nbsp\;be donated to the Food Bank. &nbsp\;We will also be taking food donations.&nbsp\;<br />\n<br />\nFor more information contact me at 216-831-6868
LOCATION:Beachwood Branch of Cuyahoga County Public Library 25501 Shaker Blvd. Beachwood OH 44122
UID:e.368.1253
SEQUENCE:3
DTSTAMP:20260419T213655Z
URL:https://public.beachwood.org/events/details/seph-lawless-art-exhibit-at-the-beachwood-library-12-28-2014-1253
END:VEVENT

END:VCALENDAR
