BEGIN:VCALENDAR
VERSION:2.0
PRODID:-//ChamberMaster//Event Calendar 2.0//EN
METHOD:PUBLISH
X-PUBLISHED-TTL:P3D
REFRESH-INTERVAL:P3D
CALSCALE:GREGORIAN
BEGIN:VEVENT
DTSTART:20170402T170000Z
DTEND:20170402T200000Z
X-MICROSOFT-CDO-ALLDAYEVENT:FALSE
SUMMARY:Seeing is Believing: 6 Beachwood Artists
DESCRIPTION:This BAC exhibit at the Beachwood Community Center runs through April 2\, 2017.\n\n\n\nA SELF-GUIDED ART STUDIO TOUR OF ALL SIX STUDIOS WILL TAKE PLACE ON SUNDAY\, APRIL 2\, 2017\, FROM 1-4pm.\n\n\n\nAll studios will be open for touring and the artists will be demonstrating their work.\n\n\n\nMAPS OF THE STUDIOS ARE AVAILABLE AT THE FRONT DESK IN THE BEACHWOOD COMMUNITY CENTER\, 25225 FAIRMOUNT BLVD.\, AT RICHMOND ROAD.
X-ALT-DESC;FMTTYPE=text/html:This BAC exhibit at the Beachwood Community Center runs through April 2\, 2017.<br />\n<br />\nA SELF-GUIDED ART STUDIO TOUR OF ALL SIX STUDIOS WILL TAKE PLACE ON SUNDAY\, APRIL 2\, 2017\, FROM 1-4pm.<br />\n<br />\nAll studios will be open for touring and the artists will be demonstrating their work.<br />\n<br />\nMAPS OF THE STUDIOS ARE AVAILABLE AT THE FRONT DESK IN THE BEACHWOOD COMMUNITY CENTER\, 25225 FAIRMOUNT BLVD.\, AT RICHMOND ROAD.
LOCATION:Exhibit at Beachwood Community Center 25225 Fairmount Blvde. Pick up maps for the studios' tours at the Beachwood Community Center
UID:e.368.6291
SEQUENCE:3
DTSTAMP:20260421T040057Z
URL:https://public.beachwood.org/events/details/seeing-is-believing-6-beachwood-artists-6291
END:VEVENT

END:VCALENDAR
