BEGIN:VCALENDAR
VERSION:2.0
PRODID:-//ChamberMaster//Event Calendar 2.0//EN
METHOD:PUBLISH
X-PUBLISHED-TTL:P3D
REFRESH-INTERVAL:P3D
CALSCALE:GREGORIAN
BEGIN:VEVENT
DTSTART:20141014T230000Z
DTEND:20141015T000000Z
X-MICROSOFT-CDO-ALLDAYEVENT:FALSE
SUMMARY:SCH Script Club: How We Got On
DESCRIPTION:How We Got On by Idris Goodwin\n\nIt's 1988 in an upper-class Midwest suburb. Teens Hank and Julian live and breathe hip-hop while their peers would rather rock. Determined to create the ultimate 'suburban' rap song\, the duo forges ahead through unconvinced parents and the highs and lows of friendship. Full of rich\, theatrical language and the poetry of everyday hopes\, How We Got On takes us on an uplifting lyrical journey of dreaming big and discovering your voice.\n\n\n\nCleveland Play House's Script Club is everything you love about a book club - but with a play in the spotlight! First\, check out a copy of the script from one of our partner libraries and read it at home. Then join CPH Artistic Staff at the library for a free-flowing exploration of the story and characters\, with inside insight on how CPH artists take a play from page to stage!
X-ALT-DESC;FMTTYPE=text/html:How We Got On by Idris Goodwin<br />\nIt&rsquo\;s 1988 in an upper-class Midwest suburb. Teens Hank and Julian live and breathe hip-hop while their peers would rather rock. Determined to create the ultimate &lsquo\;suburban&rsquo\; rap song\, the duo forges ahead through unconvinced parents and the highs and lows of friendship. Full of rich\, theatrical language and the poetry of everyday hopes\, How We Got On takes us on an uplifting lyrical journey of dreaming big and discovering your voice.<br />\n<br />\nCleveland Play House&rsquo\;s Script Club is everything you love about a book club - but with a play in the spotlight! First\, check out a copy of the script from one of our partner libraries and read it at home. Then join CPH Artistic Staff at the library for a free-flowing exploration of the story and characters\, with inside insight on how CPH artists take a play from page to stage!
LOCATION:Beachwood Branch of Cuyahoga County Public Library 25501 Shaker Blvd Beachwood OH 44122
UID:e.368.1152
SEQUENCE:3
DTSTAMP:20260420T014204Z
URL:https://public.beachwood.org/events/details/sch-script-club-how-we-got-on-10-14-2014-1152
END:VEVENT

END:VCALENDAR
