BEGIN:VCALENDAR
VERSION:2.0
PRODID:-//ChamberMaster//Event Calendar 2.0//EN
METHOD:PUBLISH
X-PUBLISHED-TTL:P3D
REFRESH-INTERVAL:P3D
CALSCALE:GREGORIAN
BEGIN:VEVENT
DTSTART:20150522T160000Z
DTEND:20150522T170000Z
X-MICROSOFT-CDO-ALLDAYEVENT:FALSE
SUMMARY:Save Local Now Digital Marketing Training
DESCRIPTION:Save Local Now\n\nDigital Marketing Training\n\n\n\nSave Local Now is FAST\, EASY and FREE to Beachwood Chamber Members!\n\n\n\nBecome a Save Local Now pro and learn how to:\n\n* Set up your business profile\n\n* Create custom content\n\n* Reach more customers\n\n\n\nAlso on the agenda:  digital marketing and social media
X-ALT-DESC;FMTTYPE=text/html:Save Local Now<br />\nDigital Marketing Training<br />\n<br />\nSave Local Now is FAST\, EASY and FREE to Beachwood Chamber Members!<br />\n<br />\nBecome a Save Local Now pro and learn how to:<br />\n* Set up your business profile<br />\n* Create custom content<br />\n* Reach more customers<br />\n<br />\nAlso on the agenda:&nbsp\; digital marketing and social media
LOCATION:Lakepoint Building Lower Level Conference Room 3201 Enterprise Parkway Beachwood\, OH 44122 (Corner of Enterprise and Science Parkways)
UID:e.368.3738
SEQUENCE:3
DTSTAMP:20260419T121029Z
URL:https://public.beachwood.org/events/details/save-local-now-digital-marketing-training-05-22-2015-3738
END:VEVENT

END:VCALENDAR
