BEGIN:VCALENDAR
VERSION:2.0
PRODID:-//ChamberMaster//Event Calendar 2.0//EN
METHOD:PUBLISH
X-PUBLISHED-TTL:P3D
REFRESH-INTERVAL:P3D
CALSCALE:GREGORIAN
BEGIN:VEVENT
DTSTART:20140415T230000Z
DTEND:20140416T003000Z
X-MICROSOFT-CDO-ALLDAYEVENT:FALSE
SUMMARY:Samuel Mather: First Citizen of Cleveland
DESCRIPTION:Meet Kathryn Makley\,   author of "Samuel Mather: First Citizen of Cleveland".\n\nSamuel Mather (1851-1931) lived during a unique era of the United States\, during which men and women who had acquired great wealth willingly involved themselves in their communities out of a real sense of obligation and concern for fellow citizens rather than a desire to perpetuate their memories. Even in this group he was a first among equals of those who achieved the "flower of citizenship."\n\nBooks with be available for purchase and signing.\n\nPlease register at www.cuyahogalibrary.org or call 216-831-6868
X-ALT-DESC;FMTTYPE=text/html:Meet Kathryn Makley\,&nbsp\;&nbsp\; author of &quot\;Samuel Mather: First Citizen of Cleveland&quot\;.<br />\nSamuel Mather (1851-1931) lived during a unique era of the United States\, during which men and women who had acquired great wealth willingly involved themselves in their communities out of a real sense of obligation and concern for fellow citizens rather than a desire to perpetuate their memories. Even in this group he was a first among equals of those who achieved the &ldquo\;flower of citizenship.&rdquo\;<br />\nBooks with be available for purchase and signing.<br />\nPlease register at <a href="http://www.cuyahogalibrary.org">www.cuyahogalibrary.org</a> or call 216-831-6868<br />\n&nbsp\;
LOCATION:Beachwood Branch of Cuyahoga County Public Library 25501 Shaker Blvd Beachwood OH 44122
UID:e.368.1091
SEQUENCE:3
DTSTAMP:20260420T102410Z
URL:https://public.beachwood.org/events/details/samuel-mather-first-citizen-of-cleveland-04-15-2014-1091
END:VEVENT

END:VCALENDAR
