BEGIN:VCALENDAR
VERSION:2.0
PRODID:-//ChamberMaster//Event Calendar 2.0//EN
METHOD:PUBLISH
X-PUBLISHED-TTL:P3D
REFRESH-INTERVAL:P3D
CALSCALE:GREGORIAN
BEGIN:VEVENT
DTSTART:20150109T000000Z
DTEND:20150109T013000Z
X-MICROSOFT-CDO-ALLDAYEVENT:FALSE
SUMMARY:Sam Thomas Book Launch "The Witch Hunter's Tale"
DESCRIPTION:Join us for the launch of the third book in the popular Midwife's Tale series of medieval mysteries. Sam Thomas takes readers back to Puritan England with midwife Bridget Hodgson\, hailed by the Cleveland Plain Dealer as "one of the most fascinating detectives in contemporary mystery fiction."\n\nWinter has come to the city of York\, and with it the threat of witchcraft. As women and children sicken and die\, midwife Bridget Hodgson is pulled against her will into a full-scale witch-hunt that threatens to devour all in its path\, guilty and innocent alike. Bridget \,accompanied once again by her deputy Martha Hawkins and her nephew Will Hodgson\, \;finds herself playing a lethal game of cat and mouse against the most dangerous men in York\, as well as her sworn enemy Rebecca Hooke. As the trials begin\, and the noose begins to tighten around her neck\, Bridget must answer the question: How far will she go to protect the people she loves?\n\nBooks available for purchase and signing courtesy of Macs Backs Books on Coventry
X-ALT-DESC;FMTTYPE=text/html:&nbsp\;Join us for the launch of the third book in the popular Midwife&rsquo\;s Tale series of medieval mysteries. Sam Thomas takes readers back to Puritan England with midwife Bridget Hodgson\, hailed by the Cleveland Plain Dealer as &quot\;one of the most fascinating detectives in contemporary mystery fiction.&quot\;<br />\nWinter has come to the city of York\, and with it the threat of witchcraft. As women and children sicken and die\, midwife Bridget Hodgson is pulled against her will into a full-scale witch-hunt that threatens to devour all in its path\, guilty and innocent alike. Bridget \,accompanied once again by her deputy Martha Hawkins and her nephew Will Hodgson\, \;finds herself playing a lethal game of cat and mouse against the most dangerous men in York\, as well as her sworn enemy Rebecca Hooke. As the trials begin\, and the noose begins to tighten around her neck\, Bridget must answer the question: How far will she go to protect the people she loves?<br />\nBooks available for purchase and signing courtesy of Macs Backs Books on Coventry
LOCATION:Beachwood Branch of Cuyahoga County Public Library 25501 Shaker Blvd Beachwood OH 44122
UID:e.368.1257
SEQUENCE:3
DTSTAMP:20260419T200954Z
URL:https://public.beachwood.org/events/details/sam-thomas-book-launch-the-witch-hunter-s-tale-01-08-2015-1257
END:VEVENT

END:VCALENDAR
