BEGIN:VCALENDAR
VERSION:2.0
PRODID:-//ChamberMaster//Event Calendar 2.0//EN
METHOD:PUBLISH
X-PUBLISHED-TTL:P3D
REFRESH-INTERVAL:P3D
CALSCALE:GREGORIAN
BEGIN:VEVENT
DTSTART:20140925T130000Z
DTEND:20140925T140000Z
X-MICROSOFT-CDO-ALLDAYEVENT:FALSE
SUMMARY:Rosh Hashanah Children's Service at Suburban Temple-Kol Ami!
DESCRIPTION:Please join us for our children's Come Grow With Me Rosh Hashanah service!\n\nThis is designed for very young children and their families to experience and learn about Rosh Hashana in an engaging and dynamic manner!
X-ALT-DESC;FMTTYPE=text/html:Please join us for our children&#39\;s Come Grow With Me Rosh Hashanah service!<br />\nThis is designed for very young children and their families to experience and learn about Rosh Hashana in an engaging and dynamic manner!
LOCATION:Suburban Temple-Kol Ami
UID:e.368.1173
SEQUENCE:3
DTSTAMP:20260420T014541Z
URL:https://public.beachwood.org/events/details/rosh-hashanah-children-s-service-at-suburban-temple-kol-ami-09-25-2014-1173
END:VEVENT

END:VCALENDAR
