BEGIN:VCALENDAR
VERSION:2.0
PRODID:-//ChamberMaster//Event Calendar 2.0//EN
METHOD:PUBLISH
X-PUBLISHED-TTL:P3D
REFRESH-INTERVAL:P3D
CALSCALE:GREGORIAN
BEGIN:VEVENT
DTSTART:20090212T170000Z
DTEND:20090212T183000Z
X-MICROSOFT-CDO-ALLDAYEVENT:FALSE
SUMMARY:''Rockin' the Business Community''
DESCRIPTION:Executive Caterers?\nCorporate Club at Landerhaven Series \n\nROCKIN? THE BUSINESS COMMUNITY\nThursday\, February 12\, 2009\n11:30 am Registration * 12 Noon Program & Luncheon\n\nJoel Peresman\, President & CEO\, Rock and Roll Hall of Fame Foundation\nTerry Stewart\, President & CEO\, Rock and Roll Hall of Fame and Museum\n\nModerated by: Michael Settonni\, President & CEO\, Broadcast Media Ideas\n\n\nExecutive Caterers\n6111 Landerhaven Drive\nMayfield Heights\, OH 44124\nCost: $30/person or $200/table of eight\nRegister by calling 440.449.0700 x: 241 or at www.ccatlanderhaven.com\nPre-registration is strongly recommended
X-ALT-DESC;FMTTYPE=text/html:Executive Caterers?\nCorporate Club at Landerhaven Series \n\nROCKIN? THE BUSINESS COMMUNITY\nThursday\, February 12\, 2009\n11:30 am Registration * 12 Noon Program & Luncheon\n\nJoel Peresman\, President & CEO\, Rock and Roll Hall of Fame Foundation\nTerry Stewart\, President & CEO\, Rock and Roll Hall of Fame and Museum\n\nModerated by: Michael Settonni\, President & CEO\, Broadcast Media Ideas\n\n\nExecutive Caterers\n6111 Landerhaven Drive\nMayfield Heights\, OH 44124\nCost: $30/person or $200/table of eight\nRegister by calling 440.449.0700 x: 241 or at www.ccatlanderhaven.com\nPre-registration is strongly recommended \n\n
LOCATION:Executive Caterers' at Landerhaven 6111 Landerhaven Drive Mayfield Heights\, OH 44124
UID:e.368.153
SEQUENCE:3
DTSTAMP:20260423T213349Z
URL:https://public.beachwood.org/events/details/rockin-the-business-community-02-12-2009-153
END:VEVENT

END:VCALENDAR
