BEGIN:VCALENDAR
VERSION:2.0
PRODID:-//ChamberMaster//Event Calendar 2.0//EN
METHOD:PUBLISH
X-PUBLISHED-TTL:P3D
REFRESH-INTERVAL:P3D
CALSCALE:GREGORIAN
BEGIN:VEVENT
DTSTART:20150207T150000Z
DTEND:20150207T163000Z
X-MICROSOFT-CDO-ALLDAYEVENT:FALSE
SUMMARY:Restorative Yoga Workshop
DESCRIPTION:If you're ready to let go of tension\, exhaustion\, and stress\, join Marcia Hudgel for relaxation and restoration of body\, mind and spirit. Breathe deeply and be nourished in restorative yoga postures\, with the use of props for support. The workshop closes with a guided yoga nidra meditation that will leave you feeling calm\, relaxed and renewed.
X-ALT-DESC;FMTTYPE=text/html:If you&#39\;re ready to let go of tension\, exhaustion\, and stress\, join Marcia Hudgel for relaxation and restoration of body\, mind and spirit. Breathe deeply and be nourished in restorative yoga postures\, with the use of props for support. The workshop closes with a guided yoga nidra meditation that will leave you feeling calm\, relaxed and renewed.
LOCATION:The Park Center 11 3681 S. Green Road\, ste 406 Beachwood\, OH 44122
UID:e.368.1294
SEQUENCE:3
DTSTAMP:20260419T201004Z
URL:https://public.beachwood.org/events/details/restorative-yoga-workshop-02-07-2015-1294
END:VEVENT

END:VCALENDAR
