BEGIN:VCALENDAR
VERSION:2.0
PRODID:-//ChamberMaster//Event Calendar 2.0//EN
METHOD:PUBLISH
X-PUBLISHED-TTL:P3D
REFRESH-INTERVAL:P3D
CALSCALE:GREGORIAN
BEGIN:VEVENT
DTSTART;VALUE=DATE:20180203
DTEND;VALUE=DATE:20180214
TRANSP:TRANSPARENT
X-MICROSOFT-CDO-ALLDAYEVENT:TRUE
SUMMARY:Restaurant Week
DESCRIPTION:Please join us Feb.1-13th for dinner\n\n\n\nThe Capital Grille Restaurant Week Dinner Menu
X-ALT-DESC;FMTTYPE=text/html:<span style="font-size:13pt">Please join us Feb.1-13th for dinner<br />\n<br />\n<a href="https://djhb9ok6owewm.cloudfront.net/471rddwk/90ec1742-2e08-4cab-bd1c-50e4679cdb3c/Chagrin%20Valley%20Restaurant%20Week%20Dinner%20Menu.pdf"><span style="font-family:calibri"><span style="color:rgb(58\, 192\, 240)">The Capital Grille Restaurant Week Dinner Menu</span></span></a></span><br />\n<br />\n<br />\n<br />\n<br />\n&nbsp\;
LOCATION:The Capital Grille Legacy Village The Capital Grille Restaurant Week Dinner Menu
UID:e.368.6484
SEQUENCE:3
DTSTAMP:20260421T014840Z
URL:https://public.beachwood.org/events/details/restaurant-week-6484
END:VEVENT

END:VCALENDAR
