BEGIN:VCALENDAR
VERSION:2.0
PRODID:-//ChamberMaster//Event Calendar 2.0//EN
METHOD:PUBLISH
X-PUBLISHED-TTL:P3D
REFRESH-INTERVAL:P3D
CALSCALE:GREGORIAN
BEGIN:VEVENT
DTSTART:20090509T220000Z
DTEND:20090510T160000Z
X-MICROSOFT-CDO-ALLDAYEVENT:FALSE
SUMMARY:Relay For LIfe - American Cancer Society
DESCRIPTION:Relay For Life is a team fundraising event to support the American Cancer Society mission of preventing cancer and saving lives through cancer research\, education\, and programs and services for cancer patients and their families. Invite your friends\, family\, and cancer survivors in your life to join with the American Cancer Society as it celebrates 25 years of hope! Relay For Life of BeachwoodSaturday\, May 9th\, 6:00 PMto Sunday\, May 10th\, 12:00 noonat Beachwood High School Survivor Celebration\, May 9th at 6 PM. For more information\, click here for the event flier.
X-ALT-DESC;FMTTYPE=text/html:<div>Relay For Life is a team fundraising event to support the American Cancer Society mission of preventing cancer and saving lives through cancer research\, education\, and programs and services for cancer patients and their families.</div><div>&nbsp\;</div><div>Invite your friends\, family\, and cancer survivors in your life to join with the American Cancer Society as it celebrates 25 years of hope!</div><div>&nbsp\;</div><div align="center"><font size="3"><strong>Relay For Life of Beachwood</strong></font></div><div align="center"><font size="3">Saturday\, May 9th\, 6:00 PM</font></div><div align="center"><font size="3">to Sunday\, May 10th\, 12:00 noon</font></div><div align="center"><font size="3">at Beachwood High School</font></div><div align="center"><font size="3">&nbsp\;</font></div><div align="center"><font size="3">Survivor Celebration\, May 9th at 6 PM</font>.</div><div>&nbsp\;</div><div>For more information\, <a href="https://secure.chambermaster.com/FCKeditor/UserFiles/chambers/368/File/Cancer-Relay4Life.pdf">click here</a> for the event flier.</div><div>&nbsp\;</div>
LOCATION:Beachwood HIgh SchoolFairmount & Richmond Roads
UID:e.368.183
SEQUENCE:3
DTSTAMP:20260423T182817Z
URL:https://public.beachwood.org/events/details/relay-for-life-american-cancer-society-05-09-2009-183
END:VEVENT

END:VCALENDAR
