BEGIN:VCALENDAR
VERSION:2.0
PRODID:-//ChamberMaster//Event Calendar 2.0//EN
METHOD:PUBLISH
X-PUBLISHED-TTL:P3D
REFRESH-INTERVAL:P3D
CALSCALE:GREGORIAN
BEGIN:VEVENT
DTSTART:20080514T230000Z
DTEND:20080515T000000Z
X-MICROSOFT-CDO-ALLDAYEVENT:FALSE
SUMMARY:Raising Financially Responsible Children
DESCRIPTION:Would you like to know how to teach children about the value and responsible use of money? If so\, don't miss this free seminar created by noted financial expert\, television personality\, and New York TImes Best selling Author\, Neale S. Godfrey.  During this informative event\, you will discover age appropriate ways to teach your children or grandchildren how to... Earn and appreciate their allowance\, develop good savings and investing habits\, know the difference between wants and needs..... And so much more
X-ALT-DESC;FMTTYPE=text/html:Would you like to know how to teach children about the value and responsible use of money? If so\, don't miss this free seminar created by noted financial expert\, television personality\, and New York TImes Best selling Author\, Neale S. Godfrey.  During this informative event\, you will discover age appropriate ways to teach your children or grandchildren how to... Earn and appreciate their allowance\, develop good savings and investing habits\, know the difference between wants and needs..... And so much more
LOCATION:South Euclid Community Center 1370 Victory Drive South Euclid Ohio 44121
UID:e.368.18
SEQUENCE:3
DTSTAMP:20260424T084851Z
URL:https://public.beachwood.org/events/details/raising-financially-responsible-children-05-14-2008-18
END:VEVENT

END:VCALENDAR
