BEGIN:VCALENDAR
VERSION:2.0
PRODID:-//ChamberMaster//Event Calendar 2.0//EN
METHOD:PUBLISH
X-PUBLISHED-TTL:P3D
REFRESH-INTERVAL:P3D
CALSCALE:GREGORIAN
BEGIN:VEVENT
DTSTART:20150925T220000Z
DTEND:20150925T230000Z
X-MICROSOFT-CDO-ALLDAYEVENT:FALSE
SUMMARY:Raise the Stein with Samuel Adams
DESCRIPTION:Do you want a chance to win a trip to Jimmy Kimmel Live? Or how about Munich\, Germany? Join us on Friday\, September 25th for our Samuel Adams Octoberfest Rise the Stein Event for your chance. This event will begin at 6:00 with the rising of the steins to begin at 7:00. At the end of the event\, you will be able to keep a Samuel Adams Octoberfest Raise the Stein glass stein. For more information on the Samuel Adams Rise the Stein Competition\, please visit https://www.samueladams.com/steinhoisting. Raise the Stein & Keep the Stein all in one night\; what better way to end a week?
X-ALT-DESC;FMTTYPE=text/html:Do you want a chance to win a trip to Jimmy Kimmel Live? Or how about Munich\, Germany? Join us on Friday\, September 25th for our Samuel Adams Octoberfest Rise the Stein Event for your chance. This event will begin at 6:00 with the rising of the steins to begin at 7:00. At the end of the event\, you will be able to keep a Samuel Adams Octoberfest Raise the Stein glass stein. For more information on the Samuel Adams Rise the Stein Competition\, please visit&nbsp\;https://www.samueladams.com/steinhoisting. Raise the Stein &amp\; Keep the Stein all in one night\; what better way to end a week?
LOCATION:The Pub Beachwood Located at Beachwood Place Mall
UID:e.368.3787
SEQUENCE:3
DTSTAMP:20260420T014352Z
URL:https://public.beachwood.org/events/details/raise-the-stein-with-samuel-adams-09-25-2015-3787
END:VEVENT

END:VCALENDAR
