BEGIN:VCALENDAR
VERSION:2.0
PRODID:-//ChamberMaster//Event Calendar 2.0//EN
METHOD:PUBLISH
X-PUBLISHED-TTL:P3D
REFRESH-INTERVAL:P3D
CALSCALE:GREGORIAN
BEGIN:VEVENT
DTSTART:20140729T230000Z
DTEND:20140730T003000Z
X-MICROSOFT-CDO-ALLDAYEVENT:FALSE
SUMMARY:Psychology of the Successful Entrepreneur
DESCRIPTION:Psychology of the Successful Entrepreneur with Laura Varcho\n\nTuesday July 29 at 7 pm\n\nBefore getting a bank loan\, renting a gallery or teaching studio\, or buying the raw materials to produce a product\, would-be entrepreneurs need to understand the intangibles of successful business ownership.This workshop defines the personal attributes and skills necessary for success as a small business owner\, including: salesmanship\, leadership and customer service skills\; comfort with risk\, uncertainty and paradox\; independent thinking and creativity\; ability to self-promote and self-motivate\; and sound financial judgment. This interactive lecture promotes discussion\, critical thinking and exploration of the challenges and benefits of entrepreneurship\, and inspires attendees to begin the self-evaluation required for laying the groundwork upon which to build their businesses
X-ALT-DESC;FMTTYPE=text/html:<br />\nPsychology of the Successful Entrepreneur with Laura Varcho<br />\nTuesday July 29 at 7 pm<br />\nBefore getting a bank loan\, renting a gallery or teaching studio\, or buying the raw materials to produce a product\, would-be entrepreneurs need to understand the intangibles of successful business ownership.This workshop defines the personal attributes and skills necessary for success as a small business owner\, including: salesmanship\, leadership and customer service skills\; comfort with risk\, uncertainty and paradox\; independent thinking and creativity\; ability to self-promote and self-motivate\; and sound financial judgment. This interactive lecture promotes discussion\, critical thinking and exploration of the challenges and benefits of entrepreneurship\, and inspires attendees to begin the self-evaluation required for laying the groundwork upon which to build their businesses
LOCATION:Beachwood Branch of Cuyahoga County Public Library 25501 Shaker Blvd Beachwood OH 44122
UID:e.368.1136
SEQUENCE:3
DTSTAMP:20260420T044621Z
URL:https://public.beachwood.org/events/details/psychology-of-the-successful-entrepreneur-07-29-2014-1136
END:VEVENT

END:VCALENDAR
