BEGIN:VCALENDAR
VERSION:2.0
PRODID:-//ChamberMaster//Event Calendar 2.0//EN
METHOD:PUBLISH
X-PUBLISHED-TTL:P3D
REFRESH-INTERVAL:P3D
CALSCALE:GREGORIAN
BEGIN:VEVENT
DTSTART:20150203T000000Z
DTEND:20150203T013000Z
X-MICROSOFT-CDO-ALLDAYEVENT:FALSE
SUMMARY:Play Reading: Women in Chekov
DESCRIPTION:Join artists from Mamai Theater Company to read aloud and discuss pivotal women in the major plays of Anton Chekov. Arkadina\, Masha and Nina from "The Seagull"\, Lyubov\, Varya and Anya from "The Cherry Orchard" and Olga\, Masha and Irina from "Three Sisters
X-ALT-DESC;FMTTYPE=text/html:Join artists from Mamai Theater Company to read aloud and discuss pivotal women in the major plays of Anton Chekov. Arkadina\, Masha and Nina from &quot\;The Seagull&quot\;\, Lyubov\, Varya and Anya from &quot\;The Cherry Orchard&quot\; and Olga\, Masha and Irina from &quot\;Three Sisters
LOCATION:Beachwood Branch of Cuyahoga County Public Library 25501 Shaker Blvd Beachwood OH 44122
UID:e.368.1267
SEQUENCE:3
DTSTAMP:20260419T190508Z
URL:https://public.beachwood.org/events/details/play-reading-women-in-chekov-02-02-2015-1267
END:VEVENT

END:VCALENDAR
