BEGIN:VCALENDAR
VERSION:2.0
PRODID:-//ChamberMaster//Event Calendar 2.0//EN
METHOD:PUBLISH
X-PUBLISHED-TTL:P3D
REFRESH-INTERVAL:P3D
CALSCALE:GREGORIAN
BEGIN:VEVENT
DTSTART:20140611T230000Z
DTEND:20140612T003000Z
X-MICROSOFT-CDO-ALLDAYEVENT:FALSE
SUMMARY:Play Reading: The Merry Wives of Windsor
DESCRIPTION:Award winning playwright David Hansen returns to leads the group in a reading of Shakespeare's The Merry Wives of Windsor. \n\nSponsored by the Friends of the Library
X-ALT-DESC;FMTTYPE=text/html:Award winning playwright David Hansen returns to leads the group in a reading of Shakespeare&#39\;s The Merry Wives of Windsor.&nbsp\;<br />\nSponsored by the Friends of the Library
LOCATION:Beachwood Branch of Cuyahoga County Public Library 25501 Shaker Blvd Beachwood Oh 44122
UID:e.368.1102
SEQUENCE:3
DTSTAMP:20260420T060814Z
URL:https://public.beachwood.org/events/details/play-reading-the-merry-wives-of-windsor-06-11-2014-1102
END:VEVENT

END:VCALENDAR
