BEGIN:VCALENDAR
VERSION:2.0
PRODID:-//ChamberMaster//Event Calendar 2.0//EN
METHOD:PUBLISH
X-PUBLISHED-TTL:P3D
REFRESH-INTERVAL:P3D
CALSCALE:GREGORIAN
BEGIN:VEVENT
DTSTART:20140818T230000Z
DTEND:20140819T003000Z
X-MICROSOFT-CDO-ALLDAYEVENT:FALSE
SUMMARY:Play Reading- Cat on a Hot Tin Roof
DESCRIPTION:Actor and Director Brian Westerley leads the group in an exploration of the Tennessee Williams classic Cat on a Hot Tin Roof
X-ALT-DESC;FMTTYPE=text/html:Actor and Director Brian Westerley leads the group in an exploration of the Tennessee Williams classic Cat on a Hot Tin Roof
LOCATION:Beachwood Branch of Cuyahoga County Public Library 25501 Shaker Blvd. Beachwood OH 44122
UID:e.368.1143
SEQUENCE:3
DTSTAMP:20260420T030814Z
URL:https://public.beachwood.org/events/details/play-reading-cat-on-a-hot-tin-roof-08-18-2014-1143
END:VEVENT

END:VCALENDAR
