BEGIN:VCALENDAR
VERSION:2.0
PRODID:-//ChamberMaster//Event Calendar 2.0//EN
METHOD:PUBLISH
X-PUBLISHED-TTL:P3D
REFRESH-INTERVAL:P3D
CALSCALE:GREGORIAN
BEGIN:VEVENT
DTSTART:20080925T113000Z
DTEND:20080925T120000Z
X-MICROSOFT-CDO-ALLDAYEVENT:FALSE
SUMMARY:Pitfalls for Employers-A Breakfast Seminar
DESCRIPTION:Pitfalls for Employers\n Recent Developments in Employment LawPreventing and Handling Employee Claims\n of Discrimination and RetaliationPresented by:\n Jonathan Smeltz \n Schneider\, Smeltz\, Ranney & LaFond P.L.L.Please join IntelliCorp for this presentation being held on Thursday\, September 25th\, 7:30-9:00 AM at the Marriott Cleveland East\, 26300 Harvard Road\, Warrensville Heights. The hotel is located off I-271\, Exit 28B (Harvard Road). To access the hotel's parking lot\, follow Harvard Road to Richmond Road and turn left.A full complimentary breakfast will be provided beginning at 7:30 AM.  The presentation begins promptly at 8:00 AM.Please RSVP by September 18th to kansboury@intellicorp.net or by calling 216-450-5166\nor to szaleski@intellicorp.net or by calling 216-450-5190.
X-ALT-DESC;FMTTYPE=text/html:<p align="center"><font color="#000080" size="3"><strong>Pitfalls for Employers<br />&nbsp\;Recent Developments in Employment Law</strong></font></p><p align="center"><font color="#333399" size="2"><strong>Preventing and Handling Employee Claims<br />&nbsp\;of Discrimination and Retaliation</strong></font></p><p align="center"><font color="#333399" size="2"><em>Presented by:<br /></em><strong>&nbsp\;<font size="3">Jonathan Smeltz</font>&nbsp\;<br /></strong></font><font color="#333399" size="2"> Schneider\, Smeltz\, Ranney &amp\; LaFond P.L.L.</font></p><p>Please join IntelliCorp for this presentation being held on Thursday\, September 25th\, 7:30-9:00 AM at the Marriott Cleveland East\, 26300 Harvard Road\,&nbsp\;Warrensville Heights. The hotel is located off I-271\, Exit 28B (Harvard Road). To access the hotel's parking lot\, follow Harvard Road to Richmond Road and turn left.</p><p>A full complimentary breakfast will be provided beginning at 7:30 AM.&nbsp\; The presentation begins promptly at 8:00 AM.</p><p>Please RSVP by September 18th to <a href="mailto:kansboury@intellicorp.net">kansboury@intellicorp.net</a> or by calling 216-450-5166<br />or to <a href="mailto:szaleski@intellicorp.net">szaleski@intellicorp.net</a> or by calling 216-450-5190.</p>
LOCATION:Marriott Cleveland East26300 Harvard RoadWarrensville Hts(I-271/Harvard & Richmond Rds)
UID:e.368.87
SEQUENCE:3
DTSTAMP:20260424T032436Z
URL:https://public.beachwood.org/events/details/pitfalls-for-employers-a-breakfast-seminar-09-25-2008-87
END:VEVENT

END:VCALENDAR
