BEGIN:VCALENDAR
VERSION:2.0
PRODID:-//ChamberMaster//Event Calendar 2.0//EN
METHOD:PUBLISH
X-PUBLISHED-TTL:P3D
REFRESH-INTERVAL:P3D
CALSCALE:GREGORIAN
BEGIN:VEVENT
DTSTART:20210429T213000Z
DTEND:20210502T230000Z
X-MICROSOFT-CDO-ALLDAYEVENT:FALSE
SUMMARY:Photo Scavenger Hunt
DESCRIPTION:We know the winter was long and cold. So here's something to put a "spring" back into your step! Sign up for out Photo Scavenger hunt and see if your team can take home the top prize!\n\nYou'll have just over 72 hours to solve clues and complete 30 missions\, ranging from the obvious to the obscure. You'll be racing against the other teams to claim victory.\n\nOnce you register your team (up to 4 people)\, you will receive a detailed email explaining how to access the clues. At the end of the event\, the team with the most points\, wins!\n\n1st Place - $150\n\n2nd Place - $100\n\n3rd Place - $50\n\nWhat are you waiting for? Sign up now at scavenger.givesmart.com
X-ALT-DESC;FMTTYPE=text/html:<div class="kvgmc6g5 cxmmr5t8 oygrvhab hcukyx3x c1et5uql" style="overflow-wrap: break-word\; margin: 0px\; font-family: &quot\;Segoe UI Historic&quot\;\, &quot\;Segoe UI&quot\;\, Helvetica\, Arial\, sans-serif\; color: rgb(5\, 5\, 5)\; font-size: 15px\;">We know the winter was long and cold. So here&#39\;s something to put a &quot\;spring&quot\; back into your step! Sign up for out Photo Scavenger hunt and see if your team can take home the top prize!</div>\n\n<div class="o9v6fnle cxmmr5t8 oygrvhab hcukyx3x c1et5uql" style="overflow-wrap: break-word\; margin: 0.5em 0px 0px\; font-family: &quot\;Segoe UI Historic&quot\;\, &quot\;Segoe UI&quot\;\, Helvetica\, Arial\, sans-serif\; color: rgb(5\, 5\, 5)\; font-size: 15px\;">You&#39\;ll have just over 72 hours to solve clues and complete 30 missions\, ranging from the obvious to the obscure. You&#39\;ll be racing against the other teams to claim victory.</div>\n\n<div class="o9v6fnle cxmmr5t8 oygrvhab hcukyx3x c1et5uql" style="overflow-wrap: break-word\; margin: 0.5em 0px 0px\; font-family: &quot\;Segoe UI Historic&quot\;\, &quot\;Segoe UI&quot\;\, Helvetica\, Arial\, sans-serif\; color: rgb(5\, 5\, 5)\; font-size: 15px\;">Once you register your team (up to 4 people)\, you will receive a detailed email explaining how to access the clues. At the end of the event\, the team with the most points\, wins!</div>\n\n<div class="o9v6fnle cxmmr5t8 oygrvhab hcukyx3x c1et5uql" style="overflow-wrap: break-word\; margin: 0.5em 0px 0px\; font-family: &quot\;Segoe UI Historic&quot\;\, &quot\;Segoe UI&quot\;\, Helvetica\, Arial\, sans-serif\; color: rgb(5\, 5\, 5)\; font-size: 15px\;">1st Place - $150</div>\n\n<div class="o9v6fnle cxmmr5t8 oygrvhab hcukyx3x c1et5uql" style="overflow-wrap: break-word\; margin: 0.5em 0px 0px\; font-family: &quot\;Segoe UI Historic&quot\;\, &quot\;Segoe UI&quot\;\, Helvetica\, Arial\, sans-serif\; color: rgb(5\, 5\, 5)\; font-size: 15px\;">2nd Place - $100</div>\n\n<div class="o9v6fnle cxmmr5t8 oygrvhab hcukyx3x c1et5uql" style="overflow-wrap: break-word\; margin: 0.5em 0px 0px\; font-family: &quot\;Segoe UI Historic&quot\;\, &quot\;Segoe UI&quot\;\, Helvetica\, Arial\, sans-serif\; color: rgb(5\, 5\, 5)\; font-size: 15px\;">3rd Place - $50</div>\n\n<div class="o9v6fnle cxmmr5t8 oygrvhab hcukyx3x c1et5uql" style="overflow-wrap: break-word\; margin: 0.5em 0px 0px\; font-family: &quot\;Segoe UI Historic&quot\;\, &quot\;Segoe UI&quot\;\, Helvetica\, Arial\, sans-serif\; color: rgb(5\, 5\, 5)\; font-size: 15px\;">What are you waiting for? Sign up now at scavenger.givesmart.com</div>\n
LOCATION:
UID:e.368.8410
SEQUENCE:3
DTSTAMP:20260421T122530Z
URL:https://public.beachwood.org/events/details/photo-scavenger-hunt-8410
END:VEVENT

END:VCALENDAR
