BEGIN:VCALENDAR
VERSION:2.0
PRODID:-//ChamberMaster//Event Calendar 2.0//EN
METHOD:PUBLISH
X-PUBLISHED-TTL:P3D
REFRESH-INTERVAL:P3D
CALSCALE:GREGORIAN
BEGIN:VEVENT
DTSTART:20150719T000000Z
DTEND:20150719T030000Z
X-MICROSOFT-CDO-ALLDAYEVENT:FALSE
SUMMARY:Paul Christensen
DESCRIPTION:Paul Christensen - Fabulous!  Paul plays the Sax and the Piano\, sings\, and delights everyone that listens to him.  He is with the fabulous Michael Stanley Band and plays with Beau Coup!  Just AMAZING!  We welcome him to Valenti's!
X-ALT-DESC;FMTTYPE=text/html:Paul Christensen - Fabulous!&nbsp\; Paul plays the Sax and the Piano\, sings\, and delights everyone that listens to him.&nbsp\; He is with the fabulous Michael Stanley Band and plays with Beau Coup!&nbsp\; Just AMAZING!&nbsp\; We welcome him to Valenti&#39\;s!
LOCATION:3365 Richmond Road Suite 130 Beachwood\, OH 44122
UID:e.368.3759
SEQUENCE:3
DTSTAMP:20260419T225032Z
URL:https://public.beachwood.org/events/details/paul-christensen-07-18-2015-3759
END:VEVENT

END:VCALENDAR
