BEGIN:VCALENDAR
VERSION:2.0
PRODID:-//ChamberMaster//Event Calendar 2.0//EN
METHOD:PUBLISH
X-PUBLISHED-TTL:P3D
REFRESH-INTERVAL:P3D
CALSCALE:GREGORIAN
BEGIN:VEVENT
DTSTART:20090315T130000Z
DTEND:20090315T170000Z
X-MICROSOFT-CDO-ALLDAYEVENT:FALSE
SUMMARY:Pancake Breakfast-Chagrin Highlands Rotary
DESCRIPTION:Chagrin Highlands Rotary17th Annual Pancake BreakfastMarch 15\, 2009 -- 9 AM-1 PMOrange High School Serving plain and blueberry pancakes with real maple syrup and sausages. All you can eat.  No reservations.  Just come! Cost: Adults: $7Seniors and children: $5
X-ALT-DESC;FMTTYPE=text/html:<div align="center"><font color="#000080" size="3">Chagrin Highlands Rotary</font></div><div align="center"><strong><font color="#000080" size="3">17th Annual Pancake Breakfast</font></strong></div><div align="center"><font color="#000080" size="3">March 15\, 2009 -- 9 AM-1 PM</font></div><div align="center"><font color="#000080" size="3"><strong>Orange High School</strong></font></div><div><font color="#000080">&nbsp\;</font></div><div><font color="#000080" size="3">Serving plain and blueberry pancakes with real maple syrup and sausages.</font></div><div><font color="#000080" size="3">&nbsp\;</font></div><div><font color="#000080" size="3">All you can eat.&nbsp\; No reservations.&nbsp\; Just come!</font></div><div><font color="#000080" size="3">&nbsp\;</font></div><div><font color="#000080" size="3">Cost: Adults: $7</font></div><div><font color="#000080" size="3">Seniors and children: $5</font></div>
LOCATION:Orange High School
UID:e.368.169
SEQUENCE:3
DTSTAMP:20260423T202434Z
URL:https://public.beachwood.org/events/details/pancake-breakfast-chagrin-highlands-rotary-03-15-2009-169
END:VEVENT

END:VCALENDAR
