BEGIN:VCALENDAR
VERSION:2.0
PRODID:-//ChamberMaster//Event Calendar 2.0//EN
METHOD:PUBLISH
X-PUBLISHED-TTL:P3D
REFRESH-INTERVAL:P3D
CALSCALE:GREGORIAN
BEGIN:VEVENT
DTSTART:20230421T230000Z
DTEND:20230501T000000Z
X-MICROSOFT-CDO-ALLDAYEVENT:FALSE
SUMMARY:On the Road: The Diary of Anne Frank\, a theatrical production
DESCRIPTION:Written by Frances Goodrich & Albert Hackett\; Adapted by Wendy Kesselman\n\nBased on the renowned reflections of a young Jewish girl\, this impassioned drama about the lives of eight people hiding from the Nazis in a concealed storage attic captures the claustrophobic realities of their daily existence   their fears\, their hopes\, their laughter\, their grief.
X-ALT-DESC;FMTTYPE=text/html:<p>Written by Frances Goodrich &amp\; Albert Hackett\; Adapted by Wendy Kesselman</p>\n\n<p>Based on the renowned reflections of a young Jewish girl\, this impassioned drama about the lives of eight people hiding from the Nazis in a concealed storage attic captures the claustrophobic realities of their daily existence &mdash\; their fears\, their hopes\, their laughter\, their grief.</p>\n
LOCATION:Fine Arts Association (38660 Mentor Avenue\, Willoughby)
UID:e.368.8552
SEQUENCE:3
DTSTAMP:20260424T125141Z
URL:https://public.beachwood.org/events/details/on-the-road-the-diary-of-anne-frank-a-theatrical-production-8552
END:VEVENT

END:VCALENDAR
