BEGIN:VCALENDAR
VERSION:2.0
PRODID:-//ChamberMaster//Event Calendar 2.0//EN
METHOD:PUBLISH
X-PUBLISHED-TTL:P3D
REFRESH-INTERVAL:P3D
CALSCALE:GREGORIAN
BEGIN:VEVENT
DTSTART:20140911T140000Z
DTEND:20140911T180000Z
X-MICROSOFT-CDO-ALLDAYEVENT:FALSE
SUMMARY:OhioMeansJobs.com Job Fair
DESCRIPTION:Vector Technical will be attending the OhioMeansJobs.com Job Fair this month!!\n\n\n\nWe are current hiring for the following positions:\n\n2nd Shift Stamping Supervisor\n\nAutomotive Mechanical Lab Technician\n\nChemical Operator\n\nChemical Plant Worker / Forklift Operator\n\nCNC Lathe Operator\n\nCNC Mill Operator\n\nCPA\n\nCoating Operator\n\nGeneral Labor\n\nGrounds Crew Member\n\nHeavy Assembly\n\nHeavy Equipment Operator / Utility\n\nIBM Websphere Commerce Developer\n\nInstrument Technician\n\nLab Technician\n\nMaintenance Craftsperson\n\nMaintenance Mechanic\n\nManual Lathe Operator\n\nMaterial Handler\n\nOffice Assistant\n\nPaint Batchmaker\n\nProfessional Painter\n\nShipping Clerk\n\nVacuum Helper\n\nPlease come dressed appropriately and bring plenty of resumes! Remember\, there's never a second chances to make a first impression!\n\nHope to see you there!
X-ALT-DESC;FMTTYPE=text/html:Vector Technical will be attending the OhioMeansJobs.com Job Fair this month!!<br />\n<br />\nWe are current hiring for the following positions:<br />\n<em>2nd Shift Stamping Supervisor<br />\nAutomotive Mechanical Lab Technician<br />\nChemical Operator<br />\nChemical Plant Worker / Forklift Operator<br />\nCNC Lathe Operator<br />\nCNC Mill Operator<br />\nCPA<br />\nCoating Operator<br />\nGeneral Labor<br />\nGrounds Crew Member<br />\nHeavy Assembly<br />\nHeavy Equipment Operator / Utility<br />\nIBM Websphere Commerce Developer<br />\nInstrument Technician<br />\nLab Technician<br />\nMaintenance Craftsperson<br />\nMaintenance Mechanic<br />\nManual Lathe Operator<br />\nMaterial Handler<br />\nOffice Assistant<br />\nPaint Batchmaker<br />\nProfessional Painter<br />\nShipping Clerk<br />\nVacuum Helper</em>\n\n<p><em>Please come dressed appropriately and bring plenty of resumes! Remember\, there&#39\;s never a second chances to make a first impression!</em></p>\n\n<p><em>Hope to see you there!</em></p>\n\n<p>&nbsp\;</p>\n
LOCATION:Midway Mall 3343 Midway Mall Elyria\, OH 44035
UID:e.368.1169
SEQUENCE:3
DTSTAMP:20260420T014539Z
URL:https://public.beachwood.org/events/details/ohiomeansjobs-com-job-fair-09-11-2014-1169
END:VEVENT

END:VCALENDAR
