BEGIN:VCALENDAR
VERSION:2.0
PRODID:-//ChamberMaster//Event Calendar 2.0//EN
METHOD:PUBLISH
X-PUBLISHED-TTL:P3D
REFRESH-INTERVAL:P3D
CALSCALE:GREGORIAN
BEGIN:VEVENT
DTSTART:20080725T123000Z
DTEND:20080725T140000Z
X-MICROSOFT-CDO-ALLDAYEVENT:FALSE
SUMMARY:Ohio.net's Voice over IP Road Show
DESCRIPTION:VOIP EDUCATION ROAD SHOW AN INSIDE LOOK AT VOIP\nEver wonder what VoIP is? Typically\, this is a question we face everyday. The educational seminar is a simplistic\, nuts and bolts of what Voice over IP truly is and how it may impact your business. The event is free to attend\, a continental breakfast is provided. \n\nCorporate College-East\n4400 Richmond Road\nWarrensville Hts.\, Ohio 44128\nJuly 25\, 2008\nContinental Breakfast: 8:45a.m.\nVOIP Presentation 9:00a.m. to 11:00a.m.\nRSVP to rsvp@ohio.net or call 330.658.758
X-ALT-DESC;FMTTYPE=text/html:VOIP EDUCATION ROAD SHOW AN INSIDE LOOK AT VOIP\nEver wonder what VoIP is? Typically\, this is a question we face everyday. The educational seminar is a simplistic\, nuts and bolts of what Voice over IP truly is and how it may impact your business. The event is free to attend\, a continental breakfast is provided. \n\nCorporate College-East\n4400 Richmond Road\nWarrensville Hts.\, Ohio 44128\nJuly 25\, 2008\nContinental Breakfast: 8:45a.m.\nVOIP Presentation 9:00a.m. to 11:00a.m.\nRSVP to rsvp@ohio.net or call 330.658.758\n
LOCATION:Corporate College-East 4400 Richmond Road Warrensville Hts.\, Ohio 44128
UID:e.368.61
SEQUENCE:3
DTSTAMP:20260424T060631Z
URL:https://public.beachwood.org/events/details/ohio-net-s-voice-over-ip-road-show-07-25-2008-61
END:VEVENT

END:VCALENDAR
