BEGIN:VCALENDAR
VERSION:2.0
PRODID:-//ChamberMaster//Event Calendar 2.0//EN
METHOD:PUBLISH
X-PUBLISHED-TTL:P3D
REFRESH-INTERVAL:P3D
CALSCALE:GREGORIAN
BEGIN:VEVENT
DTSTART:20080930T220000Z
DTEND:20080930T220000Z
X-MICROSOFT-CDO-ALLDAYEVENT:FALSE
SUMMARY:Ohio Consumers' Counsel - Electric Rates
DESCRIPTION:Concerned About Rising Electric Rates by CEI/First Energy? Learn about:proposed\, long-term rate increase plansnew requirements for energy efficiencyrenewable energy optionsimpact on your monthly electric billslong-term impact to senior citizens and fixed-income consumersFeatured speakers may include:Office of the Ohio Counsumers' CounselNOACNOPECAARP OhioLegal Aid Society of Clevelandand/or others If you are interested in learning more about the above\, join other Cleveland-area consumers on September 30th\, at 6:00 PM at the West Side Ecomunical Ministry's Reinberger Auditorium\, 5209 Detroit Road. Register at www.pickocc.org or call 1-877-PICKOCC
X-ALT-DESC;FMTTYPE=text/html:<div><font size="3"><strong><em>Concerned About Rising Electric Rates by CEI/First Energy?</em></strong></font></div><div>&nbsp\;</div><div>Learn about:</div><ul><li>proposed\, long-term rate increase plans</li><li>new requirements for energy efficiency</li><li>renewable energy options</li><li>impact on your monthly electric bills</li><li>long-term impact to senior citizens and fixed-income consumers</li></ul><div>Featured speakers may include:</div><ul><li>Office of the Ohio Counsumers' Counsel</li><li>NOAC</li><li>NOPEC</li><li>AARP Ohio</li><li>Legal Aid Society of Cleveland</li><li>and/or others</li></ul><div>&nbsp\;</div><div>If you are interested in learning more about the above\, join other Cleveland-area consumers on September 30th\, at 6:00 PM at the West Side Ecomunical Ministry&rsquo\;s Reinberger Auditorium\, 5209 Detroit Road.</div><div>&nbsp\;</div><div>Register at <a href="http://www.pickocc.org">www.pickocc.org</a> or call 1-877-PICKOCC</div>
LOCATION:West Side Ecumenical Ministry's Reinberger Auditorium 5209 Detroit Avenue Cleveland
UID:e.368.86
SEQUENCE:3
DTSTAMP:20260424T033140Z
URL:https://public.beachwood.org/events/details/ohio-consumers-counsel-electric-rates-09-30-2008-86
END:VEVENT

END:VCALENDAR
