BEGIN:VCALENDAR
VERSION:2.0
PRODID:-//ChamberMaster//Event Calendar 2.0//EN
METHOD:PUBLISH
X-PUBLISHED-TTL:P3D
REFRESH-INTERVAL:P3D
CALSCALE:GREGORIAN
BEGIN:VEVENT
DTSTART:20191030T153000Z
DTEND:20191030T173000Z
X-MICROSOFT-CDO-ALLDAYEVENT:FALSE
SUMMARY:October WHACC and BCC Luncheon 2019
DESCRIPTION:Join the WHACC and BCC for "The Evolving Workplace" panel \n\nWhether you're a C-Level executive\, report to a cubicle from 9   5\, or work remotely\, this is an event for you! Join our panel of industry experts as they discuss how and why workplace environments are rapidly shifting and why you should care. This panel will cover the expectations of a multigenerational workforce\, styles vs. culture\, workspaces\, remote work on the rise\, and more.\n\nPanel moderator- Dave Robar\, Director at Vocon Cleveland\n\nPanelists - Fred Franks\, CIO at FIT Technologies\n\n                  Olivia Siembor\, Talent Acquisition Partner at Omnova Solutions\n\n                  More panelists coming soon!
X-ALT-DESC;FMTTYPE=text/html:<span style="font-family: &quot\;Times New Roman&quot\;\,serif\; font-size: 12pt\; mso-fareast-font-family: &quot\;Times New Roman&quot\;\; mso-ansi-language: EN-US\; mso-fareast-language: EN-US\; mso-bidi-language: AR-SA\;"><v:shapetype coordsize="21600\,21600" filled="f" id="_x0000_t75" o:preferrelative="t" o:spt="75" path="m@4@5l@4@11@9@11@9@5xe" stroked="f"><font color="#000000"> </font><v:stroke joinstyle="miter"><font color="#000000"> <v:formulas> <v:f eqn="if lineDrawn pixelLineWidth 0"> <v:f eqn="sum @0 1 0"> <v:f eqn="sum 0 0 @1"> <v:f eqn="prod @2 1 2"> <v:f eqn="prod @3 21600 pixelWidth"> <v:f eqn="prod @3 21600 pixelHeight"> <v:f eqn="sum @0 0 1"> <v:f eqn="prod @6 1 2"> <v:f eqn="prod @7 21600 pixelWidth"> <v:f eqn="sum @8 21600 0"> <v:f eqn="prod @7 21600 pixelHeight"> <v:f eqn="sum @10 21600 0"> </v:f></v:f></v:f></v:f></v:f></v:f></v:f></v:f></v:f></v:f></v:f></v:f></v:formulas></font><font color="#000000"> </font><v:path gradientshapeok="t" o:connecttype="rect" o:extrusionok="f"><font color="#000000"> <o:lock aspectratio="t" v:ext="edit"> </o:lock></font></v:path></v:stroke></v:shapetype><v:shape alt="" id="_x0033_1331264-392B-490A-9563-6F8B725FB955" o:spid="_x0000_i1025" style="width: 768pt\; height: 382pt\;" type="#_x0000_t75"><font color="#000000"> <v:imagedata o:href="cid:A93CEEA7-C66D-4806-BAE4-70C8B2AABFEF@neo.rr.com" src="file:///C:\\Users\\cookd1\\AppData\\Local\\Temp\\msohtmlclip1\\01\\clip_image001.png"> </v:imagedata></font></v:shape><v:shapetype coordsize="21600\,21600" filled="f" id="_x0000_t75" o:preferrelative="t" o:spt="75" path="m@4@5l@4@11@9@11@9@5xe" stroked="f"><font color="#000000"> </font><v:stroke joinstyle="miter"><font color="#000000"> <v:formulas> <v:f eqn="if lineDrawn pixelLineWidth 0"> <v:f eqn="sum @0 1 0"> <v:f eqn="sum 0 0 @1"> <v:f eqn="prod @2 1 2"> <v:f eqn="prod @3 21600 pixelWidth"> <v:f eqn="prod @3 21600 pixelHeight"> <v:f eqn="sum @0 0 1"> <v:f eqn="prod @6 1 2"> <v:f eqn="prod @7 21600 pixelWidth"> <v:f eqn="sum @8 21600 0"> <v:f eqn="prod @7 21600 pixelHeight"> <v:f eqn="sum @10 21600 0"> </v:f></v:f></v:f></v:f></v:f></v:f></v:f></v:f></v:f></v:f></v:f></v:f></v:formulas></font><font color="#000000"> </font><v:path gradientshapeok="t" o:connecttype="rect" o:extrusionok="f"><font color="#000000"> <o:lock aspectratio="t" v:ext="edit"> </o:lock></font></v:path></v:stroke></v:shapetype><v:shape alt="" id="_x0033_1331264-392B-490A-9563-6F8B725FB955" o:spid="_x0000_i1025" style="width: 768pt\; height: 382pt\;" type="#_x0000_t75"><font color="#000000"> <v:imagedata o:href="cid:A93CEEA7-C66D-4806-BAE4-70C8B2AABFEF@neo.rr.com" src="file:///C:\\Users\\cookd1\\AppData\\Local\\Temp\\msohtmlclip1\\01\\clip_image001.png"> </v:imagedata></font></v:shape><v:shape alt="" o:spid="_x0000_i1025" style="width: 768pt\; height: 382pt\;" type="#_x0000_t75"><font color="#000000"><v:imagedata o:href="cid:A93CEEA7-C66D-4806-BAE4-70C8B2AABFEF@neo.rr.com" src="file:///C:\\Users\\cookd1\\AppData\\Local\\Temp\\msohtmlclip1\\01\\clip_image001.png"></v:imagedata></font></v:shape><v:shapetype coordsize="21600\,21600" filled="f" id="_x0000_t75" o:preferrelative="t" o:spt="75" path="m@4@5l@4@11@9@11@9@5xe" stroked="f"><font color="#000000"> </font><v:stroke joinstyle="miter"><font color="#000000"> <v:formulas> <v:f eqn="if lineDrawn pixelLineWidth 0"> <v:f eqn="sum @0 1 0"> <v:f eqn="sum 0 0 @1"> <v:f eqn="prod @2 1 2"> <v:f eqn="prod @3 21600 pixelWidth"> <v:f eqn="prod @3 21600 pixelHeight"> <v:f eqn="sum @0 0 1"> <v:f eqn="prod @6 1 2"> <v:f eqn="prod @7 21600 pixelWidth"> <v:f eqn="sum @8 21600 0"> <v:f eqn="prod @7 21600 pixelHeight"> <v:f eqn="sum @10 21600 0"> </v:f></v:f></v:f></v:f></v:f></v:f></v:f></v:f></v:f></v:f></v:f></v:f></v:formulas></font><font color="#000000"> </font><v:path gradientshapeok="t" o:connecttype="rect" o:extrusionok="f"><font color="#000000"> <o:lock aspectratio="t" v:ext="edit"> </o:lock></font></v:path></v:stroke></v:shapetype><v:shape alt="" id="_x0033_1331264-392B-490A-9563-6F8B725FB955" o:spid="_x0000_i1025" style="width: 768pt\; height: 382pt\;" type="#_x0000_t75"><font color="#000000"> <v:imagedata o:href="cid:A93CEEA7-C66D-4806-BAE4-70C8B2AABFEF@neo.rr.com" src="file:///C:\\Users\\cookd1\\AppData\\Local\\Temp\\msohtmlclip1\\01\\clip_image001.png"> </v:imagedata></font></v:shape><v:shape alt="" o:spid="_x0000_i1025" style="width: 768pt\; height: 382pt\;" type="#_x0000_t75"><font color="#000000"><v:imagedata o:href="cid:A93CEEA7-C66D-4806-BAE4-70C8B2AABFEF@neo.rr.com" src="file:///C:\\Users\\cookd1\\AppData\\Local\\Temp\\msohtmlclip1\\01\\clip_image001.png">Join the WHACC and BCC for <strong>&quot\;The Evolving Workplace&quot\; </strong>panel </v:imagedata></font></v:shape></span><br />\n<span style="color: rgb(0\, 0\, 0)\; text-transform: none\; text-indent: 0px\; letter-spacing: normal\; font-family: &quot\;Open Sans&quot\;\; font-size: 14px\; font-style: normal\; font-weight: 400\; word-spacing: 0px\; float: none\; display: inline !important\; white-space: normal\; orphans: 2\; widows: 2\; background-color: rgb(255\, 255\, 255)\; font-variant-ligatures: normal\; font-variant-caps: normal\; -webkit-text-stroke-width: 0px\; text-decoration-style: initial\; text-decoration-color: initial\;">Whether you&rsquo\;re a C-Level executive\, report to a cubicle from 9 &ndash\; 5\, or work remotely\, this is an event for you! Join our panel of industry experts as they discuss how and why workplace environments are rapidly shifting and why you should care. This panel will cover the expectations of a multigenerational workforce\, styles vs. culture\, workspaces\, remote work on the rise\, and more.<br />\nPanel moderator- Dave Robar\, Director at Vocon Cleveland<br />\nPanelists - Fred Franks\, CIO at FIT Technologies<br />\n&nbsp\;&nbsp\;&nbsp\;&nbsp\;&nbsp\;&nbsp\;&nbsp\;&nbsp\;&nbsp\;&nbsp\;&nbsp\;&nbsp\;&nbsp\;&nbsp\;&nbsp\;&nbsp\;&nbsp\; Olivia Siembor\, Talent Acquisition Partner at Omnova Solutions<br />\n&nbsp\;&nbsp\;&nbsp\;&nbsp\;&nbsp\;&nbsp\;&nbsp\;&nbsp\;&nbsp\;&nbsp\;&nbsp\;&nbsp\;&nbsp\;&nbsp\;&nbsp\;&nbsp\;&nbsp\; More panelists coming soon!</span>
LOCATION:Jack Thistledown Racino 21501 Emery Road North Randall\, OH 44128
UID:e.368.8179
SEQUENCE:3
DTSTAMP:20260420T145707Z
URL:https://public.beachwood.org/events/details/october-whacc-and-bcc-luncheon-2019-8179
END:VEVENT

END:VCALENDAR
