BEGIN:VCALENDAR
VERSION:2.0
PRODID:-//ChamberMaster//Event Calendar 2.0//EN
METHOD:PUBLISH
X-PUBLISHED-TTL:P3D
REFRESH-INTERVAL:P3D
CALSCALE:GREGORIAN
BEGIN:VEVENT
DTSTART:20141015T210000Z
DTEND:20141015T223000Z
X-MICROSOFT-CDO-ALLDAYEVENT:FALSE
SUMMARY:October Networking After Five
DESCRIPTION:Online Registration Closed.\n\nWALK-INS WELCOME!\n\n\n\nNetworking After Five Event - October\n\n\n\nJoin us at Buffalo Wild Wings for light refreshments and an informal networking event.
X-ALT-DESC;FMTTYPE=text/html:Online Registration Closed.<br />\nWALK-INS WELCOME!<br />\n<br />\nNetworking After Five Event - October<br />\n<br />\nJoin us at Buffalo Wild Wings for light refreshments and an informal networking event.
LOCATION:Buffalo Wild Wings Grill & Bar 26200 Harvard Road Warrensville Heights\, OH 44122
UID:e.368.1122
SEQUENCE:3
DTSTAMP:20260420T002139Z
URL:https://public.beachwood.org/events/details/october-networking-after-five-10-15-2014-1122
END:VEVENT

END:VCALENDAR
