BEGIN:VCALENDAR
VERSION:2.0
PRODID:-//ChamberMaster//Event Calendar 2.0//EN
METHOD:PUBLISH
X-PUBLISHED-TTL:P3D
REFRESH-INTERVAL:P3D
CALSCALE:GREGORIAN
BEGIN:VEVENT
DTSTART:20151007T210000Z
DTEND:20151007T223000Z
X-MICROSOFT-CDO-ALLDAYEVENT:FALSE
SUMMARY:October Networking After Five
DESCRIPTION:Sorry\, Registration is Closed\, Walk - In's Welcome!\n\nOctober Networking After Five\n\n\n\nJoin us for our monthly Networking After Five event at Mitchell's Fish Market.\n\n\n\nLight refreshments will be served.
X-ALT-DESC;FMTTYPE=text/html:<strong><span style="color:#4B0082\;"><span style="font-size: 18px\;">Sorry\, Registration is Closed\, Walk - In&#39\;s Welcome!</span></span></strong><br />\nOctober Networking After Five<br />\n<br />\nJoin us for our monthly Networking After Five event at Mitchell&#39\;s Fish Market.<br />\n<br />\nLight refreshments will be served.
LOCATION:Eton on Chagrin 28601 Chagrin Boulevard Woodmere\, OH 44106
UID:e.368.1284
SEQUENCE:3
DTSTAMP:20260420T030329Z
URL:https://public.beachwood.org/events/details/october-networking-after-five-10-07-2015-1284
END:VEVENT

END:VCALENDAR
