BEGIN:VCALENDAR
VERSION:2.0
PRODID:-//ChamberMaster//Event Calendar 2.0//EN
METHOD:PUBLISH
X-PUBLISHED-TTL:P3D
REFRESH-INTERVAL:P3D
CALSCALE:GREGORIAN
BEGIN:VEVENT
DTSTART:20191022T210000Z
DTEND:20191022T223000Z
X-MICROSOFT-CDO-ALLDAYEVENT:FALSE
SUMMARY:October 2019 Networking After Five
DESCRIPTION:Join the Chamber for this month's for Networking After Five on Tuesday\, October 22nd\, at The Capital Grille at Legacy Village\, which is known for fine dining\, dry-aged steaks and globally acclaimed wines.\n\n\n\nEnjoy\n\n	Light Refreshments\n	Networking tips\n	Drawing for a gift certificate\n\nRemember to bring your business cards!
X-ALT-DESC;FMTTYPE=text/html:Join the Chamber for this month&#39\;s for Networking After Five on Tuesday\, October 22nd\, at The Capital Grille at Legacy Village\, which is known for fine dining\, dry-aged steaks and globally acclaimed wines.<br />\n<br />\nEnjoy\n<ul>\n	<li>Light Refreshments</li>\n	<li>Networking tips</li>\n	<li>Drawing for a gift certificate</li>\n</ul>\nRemember to bring your business cards!
LOCATION:The Capital Grille Legacy Village 25389 Cedar Road Lyndhurst\, OH 44124
UID:e.368.8178
SEQUENCE:3
DTSTAMP:20260420T145500Z
URL:https://public.beachwood.org/events/details/october-2019-networking-after-five-8178
END:VEVENT

END:VCALENDAR
