BEGIN:VCALENDAR
VERSION:2.0
PRODID:-//ChamberMaster//Event Calendar 2.0//EN
METHOD:PUBLISH
X-PUBLISHED-TTL:P3D
REFRESH-INTERVAL:P3D
CALSCALE:GREGORIAN
BEGIN:VEVENT
DTSTART;VALUE=DATE:20191022
DTEND;VALUE=DATE:20191023
TRANSP:TRANSPARENT
X-MICROSOFT-CDO-ALLDAYEVENT:TRUE
SUMMARY:October 2019 Member Orientation
DESCRIPTION:Make your Chamber Membership Work for You!\n\n\n\nThe Beachwood Chamber will hold a Member Orientation session for members on\n\n \n\nTueday\, October 22\, 2019\n\n7:45   9:00 AM\n\nAt Homewood Suites by Hilton\n\n25725 Central Parkway\n\nBeachwood\, OH 44122\n\n\n\nWe encourage all Chamber members to attend the October 22nd Member Orientation meeting. This is your opportunity to meet Chamber staff\, introduce your business\, and familiarize yourself with the variety of benefits the Chamber offers.\n\n\n\nThe member orientation is an informal presentation covering all you need to know to make your Chamber membership work for you.
X-ALT-DESC;FMTTYPE=text/html:<span style="font-size:12.0pt\;">Make your Chamber Membership Work for You!</span><br />\n<br />\n<span style="font-size:12.0pt\;">The Beachwood Chamber will hold a Member Orientation session for members on</span><br />\n&nbsp\;<br />\n<strong><span style="font-size:12.0pt\;">Tueday\, October 22\, 2019</span></strong><br />\n<strong><span style="font-size:12.0pt\;">7:45 &ndash\; 9:00 AM</span></strong><br />\n<strong><span style="font-size:12.0pt\;">At Homewood Suites by Hilton</span></strong><br />\n<span style="font-size:12.0pt\;">25725 Central Parkway</span><br />\n<span style="font-size:12.0pt\;">Beachwood\, OH 44122</span><br />\n<br />\n<span style="font-family:calibri\,sans-serif\;"><span style="font-size:12.0pt\;">We encourage all Chamber members to attend the October 22nd Member Orientation meeting. This is your opportunity to meet Chamber staff\, introduce your business\, and familiarize yourself with the variety of benefits the Chamber offers.<br />\n<br />\nThe member orientation is an informal presentation covering all you need to know to make your Chamber membership work for you.&nbsp\; </span></span>
LOCATION:Homewood Suites by Hilton 2575 Central Parkway Beachwood\, OH 44122
UID:e.368.8184
SEQUENCE:3
DTSTAMP:20260420T145603Z
URL:https://public.beachwood.org/events/details/october-2019-member-orientation-8184
END:VEVENT

END:VCALENDAR
